| Back to the "Multiple platform build/check report" |
| Package 22/61 | Hostname | OS / Arch | BUILD | CHECK | BUILD BIN | ||||
| golubEsets 1.4.4 Vince Carey
| lamb1 | Linux (SUSE 10.1) / x86_64 | OK | OK | |||||
| liverpool | Windows Server 2003 R2 (32-bit) / x64 | OK | OK | OK | |||||
| pitt | Mac OS X Tiger (10.4.11) / i386 | [ OK ] | OK | OK |
| Package: golubEsets |
| Version: 1.4.4 |
| Command: /Library/Frameworks/R.framework/Versions/2.7/Resources/bin/R CMD build golubEsets |
| StartedAt: 2008-10-16 13:03:11 -0700 (Thu, 16 Oct 2008) |
| EndedAt: 2008-10-16 13:03:28 -0700 (Thu, 16 Oct 2008) |
| EllapsedTime: 16.8 seconds |
| RetCode: 0 |
| Status: OK |
| PackageFile: golubEsets_1.4.4.tar.gz |
| PackageFileSize: 7.996 MiB |
* checking for file 'golubEsets/DESCRIPTION' ... OK * preparing 'golubEsets': * checking DESCRIPTION meta-information ... OK * removing junk files * checking for LF line-endings in source and make files * checking for empty or unneeded directories * building 'golubEsets_1.4.4.tar.gz'