golubEsets 1.4.4 Vince Carey
 | Snapshot Date: 2008-10-16 12:02:11 -0700 (Thu, 16 Oct 2008) |  | URL: https://hedgehog.fhcrc.org/bioc-data/trunk/experiment/pkgs/golubEsets |  | Last Changed Rev: 439 / Revision: 729 |  | Last Changed Date: 2007-09-07 20:41:45 -0700 (Fri, 07 Sep 2007) |  
  | lamb1  | Linux (SUSE 10.1) / x86_64  |  OK  |  OK  |  | 
| liverpool  | Windows Server 2003 R2 (32-bit) / x64  |  OK  |  OK  | [ OK ] | 
| pitt  | Mac OS X Tiger (10.4.11) / i386  |  OK  |  OK  |  OK  | 
installing R.css in E:/biocbld/bbs-2.2-data-experiment/meat/golubEsets.buildbin-libdir
Using auto-selected zip options ''
---------- Making package golubEsets ------------
  adding build stamp to DESCRIPTION
  no R files in this package
  installing data files
  installing man source files
  installing indices
Loading required package: methods
  not zipping data
  installing help
 >>> Building/Updating help pages for package 'golubEsets'
     Formats: text html latex example chm 
  golubMerge                        text    html    latex   example chm
  golubTest                         text    html    latex   example chm
  golubTrain                        text    html    latex   example chm
Microsoft HTML Help Compiler 4.74.8702
Compiling e:\biocbld\bbs-2.2-data-experiment\meat\R.INSTALL.4692\golubEsets\chm\golubEsets.chm
Compile time: 0 minutes, 0 seconds
4	Topics
9	Local links
3	Internet links
1	Graphic
Created e:\biocbld\bbs-2.2-data-experiment\meat\R.INSTALL.4692\golubEsets\chm\golubEsets.chm, 19,011 bytes
Compression increased file by 3,078 bytes.
  adding MD5 sums
packaged installation of package 'golubEsets' as golubEsets_1.4.4.zip
* DONE (golubEsets)