GGdata 0.99.2 VJ Carey
Snapshot Date: 2008-10-16 12:02:11 -0700 (Thu, 16 Oct 2008) | URL: https://hedgehog.fhcrc.org/bioc-data/trunk/experiment/pkgs/GGdata | Last Changed Rev: 711 / Revision: 729 | Last Changed Date: 2008-09-13 11:47:15 -0700 (Sat, 13 Sep 2008) |
| lamb1 | Linux (SUSE 10.1) / x86_64 | OK | ERROR | |
liverpool | Windows Server 2003 R2 (32-bit) / x64 | OK | ERROR | OK |
pitt | Mac OS X Tiger (10.4.11) / i386 | OK | ERROR | [ OK ] |
INSTALLATION WITH 'R CMD INSTALL GGdata_0.99.2.tar.gz'
* Installing to library 'GGdata.buildbin-libdir'
* Installing *source* package 'GGdata' ...
** R
** data
** inst
** preparing package for lazy loading
Loading required package: Biobase
Loading required package: tools
Welcome to Bioconductor
Vignettes contain introductory material. To view, type
'openVignette()'. To cite Bioconductor, see
'citation("Biobase")' and for packages 'citation(pkgname)'.
Loading required package: GGBase
Loading required package: GSEABase
Loading required package: AnnotationDbi
Loading required package: DBI
Loading required package: RSQLite
Loading required package: annotate
Loading required package: xtable
Loading required package: snpMatrix
Loading required package: survival
Loading required package: splines
Loading required package: illuminaHumanv1.db
** help
>>> Building/Updating help pages for package 'GGdata'
Formats: text html latex example
hmceuB36 text html latex example
** building package indices ...
Loading required package: methods
* DONE (GGdata)