| rHVDM 1.6.5 Martino Barenco
 
 | Snapshot Date: 2008-10-16 00:10:09 -0700 (Thu, 16 Oct 2008) |  | URL: https://hedgehog.fhcrc.org/bioconductor/branches/RELEASE_2_2/madman/Rpacks/rHVDM |  | Last Changed Rev: 31991 / Revision: 34573 |  | Last Changed Date: 2008-05-28 04:48:40 -0700 (Wed, 28 May 2008) | 
 | lamb1 | Linux (SUSE 10.1) / x86_64 | OK | OK |  | 
| wilson2 | Linux (openSUSE 10.3) / x86_64 | OK | OK |  | 
| wellington | Linux (openSUSE 10.3) / i686 | OK | OK |  | 
| liverpool | Windows Server 2003 R2 (32-bit) / x64 | OK | OK | OK | 
| pitt | Mac OS X Tiger (10.4.11) / i386 | OK | OK | [ OK ] | 
                INSTALLATION WITH 'R CMD INSTALL rHVDM_1.6.5.tar.gz'
* Installing to library 'rHVDM.buildbin-libdir'
* Installing *source* package 'rHVDM' ...
** R
** data
** inst
** preparing package for lazy loading
Loading required package: R2HTML
Loading required package: affy
Loading required package: Biobase
Loading required package: tools
Welcome to Bioconductor
  Vignettes contain introductory material. To view, type
  'openVignette()'. To cite Bioconductor, see
  'citation("Biobase")' and for packages 'citation(pkgname)'.
Loading required package: affyio
Loading required package: preprocessCore
Loading required package: minpack.lm
This product includes software developed by the University of Chicago, as
Operator of Argonne National Laboratory.
See the LICENSE file distributed with the minpack.lm source code or
http://www.netlib.org/minpack/disclaimer for the full license.
** help
 >>> Building/Updating help pages for package 'rHVDM'
     Formats: text html latex example 
  HVDMcheck                         text    html    latex   example
  HVDMreport                        text    html    latex   example
  fitgene                           text    html    latex   example
  fiveGyMAS5                        text    html    latex
  genestoscreen                     text    html    latex
  p53traingenes                     text    html    latex
  screening                         text    html    latex   example
  training                          text    html    latex   example
** building package indices ...
* DONE (rHVDM)