| safe 2.2.0 William T. Barry
 
 | Snapshot Date: 2008-10-16 00:10:09 -0700 (Thu, 16 Oct 2008) |  | URL: https://hedgehog.fhcrc.org/bioconductor/branches/RELEASE_2_2/madman/Rpacks/safe |  | Last Changed Rev: 31430 / Revision: 34573 |  | Last Changed Date: 2008-04-29 16:50:18 -0700 (Tue, 29 Apr 2008) | 
 | lamb1 | Linux (SUSE 10.1) / x86_64 | [ OK ] | OK |  | 
| wilson2 | Linux (openSUSE 10.3) / x86_64 | OK | OK |  | 
| wellington | Linux (openSUSE 10.3) / i686 | OK | OK |  | 
| liverpool | Windows Server 2003 R2 (32-bit) / x64 | OK | OK | OK | 
| pitt | Mac OS X Tiger (10.4.11) / i386 | OK | OK | OK | 
* checking for file 'safe/DESCRIPTION' ... OK
* preparing 'safe':
* checking DESCRIPTION meta-information ... OK
* installing the package to re-build vignettes
* Installing *source* package 'safe' ...
** R
** inst
** preparing package for lazy loading
Loading required package: SparseM
Package SparseM (0.78) loaded.  To cite, see citation("SparseM")
Loading required package: GO
******* Deprecation warning *******:
The package 'GO' is deprecated and will not be supported in the future. 
Instead we strongly reccomend that you should start using the 'GO.db' package. 
We hope you will enjoy these new packages.  If you still have questions, you can search 
(http://dir.gmane.org/gmane.science.biology.informatics.conductor) or ask the mailing list 
(http://bioconductor.org/docs/mailList.html).  
Loading required package: annotate
Loading required package: Biobase
Loading required package: tools
Welcome to Bioconductor
  Vignettes contain introductory material. To view, type
  'openVignette()'. To cite Bioconductor, see
  'citation("Biobase")' and for packages 'citation(pkgname)'.
Loading required package: AnnotationDbi
Loading required package: DBI
Loading required package: RSQLite
Loading required package: xtable
** help
 >>> Building/Updating help pages for package 'safe'
     Formats: text html latex example 
  SAFE-class                        text    html    latex
  gene.results                      text    html    latex
  getCmatrix                        text    html    latex   example
  safe-internal                     text    html    latex
  safe                              text    html    latex   example
  safedag                           text    html    latex
  safeplot                          text    html    latex   example
** building package indices ...
* DONE (safe)
* creating vignettes ... OK
* removing junk files
* checking for LF line-endings in source and make files
* checking for empty or unneeded directories
* building 'safe_2.2.0.tar.gz'