| made4 1.13.3 Aedin Culhane
 
 | Snapshot Date: 2008-04-09 00:13:10 -0700 (Wed, 09 Apr 2008) |  | URL: https://hedgehog.fhcrc.org/bioconductor/trunk/madman/Rpacks/made4 |  | Last Changed Rev: 30950 / Revision: 30951 |  | Last Changed Date: 2008-04-08 22:57:46 -0700 (Tue, 08 Apr 2008) | 
 | lamb1 | Linux (SUSE 10.1) / x86_64 | OK | OK |  | 
| wilson2 | Linux (openSUSE 10.3) / x86_64 | OK | OK |  | 
| wellington | Linux (openSUSE 10.3) / i686 | OK | OK |  | 
| liverpool | Windows Server 2003 R2 (32-bit) / x64 | OK | OK | OK | 
| pelham | Mac OS X Leopard (10.5.1) / i386 | OK | OK | [ OK ] | 
                INSTALLATION WITH 'R CMD INSTALL made4_1.13.3.tar.gz'
* Installing to library 'made4.buildbin-libdir'
* Installing *source* package 'made4' ...
** R
** data
** inst
** preparing package for lazy loading
Loading required package: ade4
Attaching package: 'ade4'
	The following object(s) are masked from package:base :
	 within 
** help
Note: removing empty section \references
Note: removing empty section \value
Note: removing empty section \note
Note: removing empty section \details
Note: removing empty section \note
Note: removing empty section \seealso
Note: removing empty section \examples
Note: removing empty section \seealso
Note: removing empty section \examples
Note: removing empty section \note
Note: removing empty section \value
Note: removing empty section \references
Note: removing empty section \details
Note: removing empty section \note
Note: removing empty section \references
Note: removing empty section \examples
Note: removing empty section \examples
Note: removing empty section \value
Note: removing empty section \examples
Note: removing empty section \references
Note: removing empty section \examples
Note: removing empty section \value
Note: removing empty section \details
Note: removing empty section \note
Note: removing empty section \references
Note: removing empty section \seealso
Note: removing empty section \seealso
Note: removing empty section \examples
Note: removing empty section \references
Note: removing empty section \value
Note: removing empty section \note
Note: removing empty section \references
Note: removing empty section \value
Note: removing empty section \note
Note: removing empty section \references
Note: removing empty section \note
Note: removing empty section \references
Note: removing empty section \seealso
Note: removing empty section \note
Note: removing empty section \references
 >>> Building/Updating help pages for package 'made4'
     Formats: text html latex example 
  NCI60                             text    html    latex   example
  array2ade4                        text    html    latex   example
  bet.coinertia                     text    html    latex   example
  between.graph                     text    html    latex   example
  bga                               text    html    latex   example
  bga.jackknife                     text    html    latex   example
  bga.suppl                         text    html    latex   example
  checkfac                          text    html    latex
  chime3D                           text    html    latex
  cia                               text    html    latex   example
  commonMap                         text    html    latex   example
  comparelists                      text    html    latex   example
  do3d                              text    html    latex   example
  dudi.rwcoa                        text    html    latex
  forrwcoa                          text    html    latex
  genes                             text    html    latex
  genes1d                           text    html    latex   example
  getcol                            text    html    latex   example
  getdata                           text    html    latex
  graph1D                           text    html    latex   example
  heatplot                          text    html    latex   example
  html3D                            text    html    latex   example
  jmol3D                            text    html    latex
  khan                              text    html    latex   example
  ord                               text    html    latex   example
  overview                          text    html    latex   example
  plotarrays                        text    html    latex   example
  plotgenes                         text    html    latex   example
  pretty.dend                       text    html    latex   example
  randomiser                        text    html    latex   example
  s.var                             text    html    latex   example
  sumstats                          text    html    latex   example
  suppl                             text    html    latex   example
  topgenes                          text    html    latex   example
** building package indices ...
* DONE (made4)