made4 1.13.3 Aedin Culhane
 | Snapshot Date: 2008-04-09 00:13:10 -0700 (Wed, 09 Apr 2008) |  | URL: https://hedgehog.fhcrc.org/bioconductor/trunk/madman/Rpacks/made4 |  | Last Changed Rev: 30950 / Revision: 30951 |  | Last Changed Date: 2008-04-08 22:57:46 -0700 (Tue, 08 Apr 2008) |  
  | lamb1  | Linux (SUSE 10.1) / x86_64  |  OK  |  OK  |  | 
| wilson2  | Linux (openSUSE 10.3) / x86_64  |  OK  |  OK  |  | 
| wellington  | Linux (openSUSE 10.3) / i686  |  OK  |  OK  |  | 
| liverpool  | Windows Server 2003 R2 (32-bit) / x64  |  OK  |  OK  | [ OK ] | 
| pelham  | Mac OS X Leopard (10.5.1) / i386  |  OK  |  OK  |  OK  | 
installing R.css in E:/biocbld/bbs-2.2-bioc/meat/made4.buildbin-libdir
Using auto-selected zip options 'made4-ZIPDATA=zip made4-HELP=ziponly'
---------- Making package made4 ------------
  adding build stamp to DESCRIPTION
  installing R files
  installing inst files
  installing data files
  preparing package made4 for lazy loading
Loading required package: ade4
Attaching package: 'ade4'
	The following object(s) are masked from package:base :
	 within 
  installing man source files
  installing indices
  zipping data
  installing help
Note: removing empty section \references
Note: removing empty section \references
Note: removing empty section \value
Note: removing empty section \note
Note: removing empty section \value
Note: removing empty section \note
Note: removing empty section \details
Note: removing empty section \note
Note: removing empty section \seealso
Note: removing empty section \examples
Note: removing empty section \details
Note: removing empty section \note
Note: removing empty section \seealso
Note: removing empty section \examples
Note: removing empty section \seealso
Note: removing empty section \examples
Note: removing empty section \seealso
Note: removing empty section \examples
Note: removing empty section \note
Note: removing empty section \note
Note: removing empty section \value
Note: removing empty section \references
Note: removing empty section \value
Note: removing empty section \references
Note: removing empty section \details
Note: removing empty section \note
Note: removing empty section \references
Note: removing empty section \details
Note: removing empty section \note
Note: removing empty section \references
Note: removing empty section \examples
Note: removing empty section \examples
Note: removing empty section \examples
Note: removing empty section \examples
Note: removing empty section \value
Note: removing empty section \examples
Note: removing empty section \value
Note: removing empty section \examples
Note: removing empty section \references
Note: removing empty section \references
Note: removing empty section \examples
Note: removing empty section \examples
Note: removing empty section \value
Note: removing empty section \details
Note: removing empty section \note
Note: removing empty section \references
Note: removing empty section \value
Note: removing empty section \details
Note: removing empty section \note
Note: removing empty section \references
Note: removing empty section \seealso
Note: removing empty section \seealso
Note: removing empty section \seealso
Note: removing empty section \examples
Note: removing empty section \seealso
Note: removing empty section \examples
Note: removing empty section \references
Note: removing empty section \references
Note: removing empty section \value
Note: removing empty section \note
Note: removing empty section \references
Note: removing empty section \value
Note: removing empty section \note
Note: removing empty section \references
Note: removing empty section \value
Note: removing empty section \note
Note: removing empty section \references
Note: removing empty section \value
Note: removing empty section \note
Note: removing empty section \references
Note: removing empty section \note
Note: removing empty section \references
Note: removing empty section \seealso
Note: removing empty section \note
Note: removing empty section \references
Note: removing empty section \seealso
Note: removing empty section \note
Note: removing empty section \references
Note: removing empty section \note
Note: removing empty section \references
 >>> Building/Updating help pages for package 'made4'
     Formats: text html latex example chm 
  NCI60                             text    html    latex   example chm
  array2ade4                        text    html    latex   example chm
  bet.coinertia                     text    html    latex   example chm
  between.graph                     text    html    latex   example chm
  bga                               text    html    latex   example chm
  bga.jackknife                     text    html    latex   example chm
  bga.suppl                         text    html    latex   example chm
  checkfac                          text    html    latex           chm
  chime3D                           text    html    latex           chm
  cia                               text    html    latex   example chm
  commonMap                         text    html    latex   example chm
  comparelists                      text    html    latex   example chm
  do3d                              text    html    latex   example chm
  dudi.rwcoa                        text    html    latex           chm
  forrwcoa                          text    html    latex           chm
  genes                             text    html    latex           chm
  genes1d                           text    html    latex   example chm
  getcol                            text    html    latex   example chm
  getdata                           text    html    latex           chm
  graph1D                           text    html    latex   example chm
  heatplot                          text    html    latex   example chm
  html3D                            text    html    latex   example chm
  jmol3D                            text    html    latex           chm
  khan                              text    html    latex   example chm
  ord                               text    html    latex   example chm
  overview                          text    html    latex   example chm
  plotarrays                        text    html    latex   example chm
  plotgenes                         text    html    latex   example chm
  pretty.dend                       text    html    latex   example chm
  randomiser                        text    html    latex   example chm
  s.var                             text    html    latex   example chm
  sumstats                          text    html    latex   example chm
  suppl                             text    html    latex   example chm
  topgenes                          text    html    latex   example chm
  zipping help files
Microsoft HTML Help Compiler 4.74.8702
Compiling e:\biocbld\bbs-2.2-bioc\meat\R.INSTALL.6072\made4\chm\made4.chm
Compile time: 0 minutes, 1 second
35	Topics
170	Local links
20	Internet links
1	Graphic
Created e:\biocbld\bbs-2.2-bioc\meat\R.INSTALL.6072\made4\chm\made4.chm, 83,664 bytes
Compression decreased file by 112,986 bytes.
  adding MD5 sums
packaged installation of package 'made4' as made4_1.13.3.zip
* DONE (made4)