| OrderedList 1.11.3 Claudio Lottaz
 
 | Snapshot Date: 2008-04-09 00:13:10 -0700 (Wed, 09 Apr 2008) |  | URL: https://hedgehog.fhcrc.org/bioconductor/trunk/madman/Rpacks/OrderedList |  | Last Changed Rev: 30193 / Revision: 30951 |  | Last Changed Date: 2008-02-26 09:53:05 -0800 (Tue, 26 Feb 2008) | 
 | lamb1 | Linux (SUSE 10.1) / x86_64 | OK | OK |  | 
| wilson2 | Linux (openSUSE 10.3) / x86_64 | OK | OK |  | 
| wellington | Linux (openSUSE 10.3) / i686 | [ OK ] | OK |  | 
| liverpool | Windows Server 2003 R2 (32-bit) / x64 | OK | OK | OK | 
| pelham | Mac OS X Leopard (10.5.1) / i386 | OK | OK | OK | 
* checking for file 'OrderedList/DESCRIPTION' ... OK
* preparing 'OrderedList':
* checking DESCRIPTION meta-information ... OK
* installing the package to re-build vignettes
* Installing *source* package 'OrderedList' ...
** R
** data
** inst
** preparing package for lazy loading
Loading required package: Biobase
Loading required package: tools
Welcome to Bioconductor
  Vignettes contain introductory material. To view, type
  'openVignette()'. To cite Bioconductor, see
  'citation("Biobase")' and for packages 'citation(pkgname)'.
Loading required package: twilight
Loading required package: splines
** help
 >>> Building/Updating help pages for package 'OrderedList'
     Formats: text html latex example 
  OL.data                           text    html    latex
  OL.result                         text    html    latex   example
  OrderedList                       text    html    latex   example
  check.test.args                   text    html    latex
  compareLists                      text    html    latex   example
  getOverlap                        text    html    latex   example
  overlap                           text    html    latex
  plot.OrderedList                  text    html    latex   example
  prepareData                       text    html    latex   example
  preparePermutations               text    html    latex
  print.OrderedList                 text    html    latex   example
  scoreOrderComparison              text    html    latex
  scoreRankings                     text    html    latex
  shuffledRandomScores              text    html    latex
** building package indices ...
* DONE (OrderedList)
* creating vignettes ... OK
* removing junk files
* checking for LF line-endings in source and make files
* checking for empty or unneeded directories
* building 'OrderedList_1.11.3.tar.gz'