| OrderedList 1.11.3 Claudio Lottaz
 
 | Snapshot Date: 2008-04-09 00:13:10 -0700 (Wed, 09 Apr 2008) |  | URL: https://hedgehog.fhcrc.org/bioconductor/trunk/madman/Rpacks/OrderedList |  | Last Changed Rev: 30193 / Revision: 30951 |  | Last Changed Date: 2008-02-26 09:53:05 -0800 (Tue, 26 Feb 2008) | 
 | lamb1 | Linux (SUSE 10.1) / x86_64 | OK | OK |  | 
| wilson2 | Linux (openSUSE 10.3) / x86_64 | OK | OK |  | 
| wellington | Linux (openSUSE 10.3) / i686 | OK | OK |  | 
| liverpool | Windows Server 2003 R2 (32-bit) / x64 | [ OK ] | OK | OK | 
| pelham | Mac OS X Leopard (10.5.1) / i386 | OK | OK | OK | 
* checking for file 'OrderedList/DESCRIPTION' ... OK
* preparing 'OrderedList':
* checking DESCRIPTION meta-information ... OK
* installing the package to re-build vignettes
installing R.css in E:/biocbld/bbs-2.2-bioc/tmpdir/Rinst482401812
---------- Making package OrderedList ------------
  adding build stamp to DESCRIPTION
  installing R files
  installing inst files
  installing data files
  preparing package OrderedList for lazy loading
Loading required package: Biobase
Loading required package: tools
Welcome to Bioconductor
  Vignettes contain introductory material. To view, type
  'openVignette()'. To cite Bioconductor, see
  'citation("Biobase")' and for packages 'citation(pkgname)'.
Loading required package: twilight
Loading required package: splines
  installing man source files
  installing indices
  not zipping data
  installing help
 >>> Building/Updating help pages for package 'OrderedList'
     Formats: text html latex example chm 
  OL.data                           text    html    latex           chm
  OL.result                         text    html    latex   example chm
  OrderedList                       text    html    latex   example chm
  check.test.args                   text    html    latex           chm
  compareLists                      text    html    latex   example chm
  getOverlap                        text    html    latex   example chm
  overlap                           text    html    latex           chm
  plot.OrderedList                  text    html    latex   example chm
  prepareData                       text    html    latex   example chm
  preparePermutations               text    html    latex           chm
  print.OrderedList                 text    html    latex   example chm
  scoreOrderComparison              text    html    latex           chm
  scoreRankings                     text    html    latex           chm
  shuffledRandomScores              text    html    latex           chm
Microsoft HTML Help Compiler 4.74.8702
Compiling e:\biocbld\bbs-2.2-bioc\meat\OrderedList\chm\OrderedList.chm
Compile time: 0 minutes, 1 second
15	Topics
55	Local links
0	Internet links
1	Graphic
Created e:\biocbld\bbs-2.2-bioc\meat\OrderedList\chm\OrderedList.chm, 40,210 bytes
Compression decreased file by 23,059 bytes.
  adding MD5 sums
* DONE (OrderedList)
* creating vignettes ... OK
* removing junk files
* checking for LF line-endings in source and make files
* checking for empty or unneeded directories
* building 'OrderedList_1.11.3.tar.gz'