| Back to the "Multiple platform build/check report" | A B C D E F G H I J [K] L M N O P Q R S T U V W X Y Z |
| Package 124/264 | Hostname | OS / Arch | BUILD | CHECK | BUILD BIN | ||||
| KEGGSOAP 1.13.0 Robert Gentleman
| lamb1 | Linux (SUSE 10.1) / x86_64 | OK | OK | |||||
| wilson2 | Linux (openSUSE 10.3) / x86_64 | OK | OK | ||||||
| wellington | Linux (openSUSE 10.3) / i686 | [ OK ] | OK | ||||||
| liverpool | Windows Server 2003 R2 (32-bit) / x64 | OK | WARNINGS | OK | |||||
| pelham | Mac OS X Leopard (10.5.1) / i386 | OK | OK | OK |
| Package: KEGGSOAP |
| Version: 1.13.0 |
| Command: /home/biocbuild/bbs-2.2-bioc/R/bin/R CMD build KEGGSOAP |
| StartedAt: 2008-04-09 04:03:13 -0700 (Wed, 09 Apr 2008) |
| EndedAt: 2008-04-09 04:03:15 -0700 (Wed, 09 Apr 2008) |
| EllapsedTime: 1.7 seconds |
| RetCode: 0 |
| Status: OK |
| PackageFile: KEGGSOAP_1.13.0.tar.gz |
| PackageFileSize: 9.089 KiB |
* checking for file 'KEGGSOAP/DESCRIPTION' ... OK * preparing 'KEGGSOAP': * checking DESCRIPTION meta-information ... OK * removing junk files * checking for LF line-endings in source and make files * checking for empty or unneeded directories * building 'KEGGSOAP_1.13.0.tar.gz'