GEOquery 2.3.0 Sean Davis
 | Snapshot Date: 2007-12-11 00:09:07 -0800 (Tue, 11 Dec 2007) |  | URL: https://hedgehog.fhcrc.org/bioconductor/trunk/madman/Rpacks/GEOquery |  | Last Changed Rev: 28557 / Revision: 29143 |  | Last Changed Date: 2007-11-07 23:00:31 -0800 (Wed, 07 Nov 2007) |  
  | lamb1  | Linux (SUSE 10.1) / x86_64  |  OK  |  OK  |  | 
| wilson2  | Linux (openSUSE 10.3) / x86_64  | [ OK ] |  OK  |  | 
| wellington  | Linux (openSUSE 10.3) / i686  |  OK  |  OK  |  | 
| liverpool  | Windows Server 2003 R2 (32-bit) / x64  |  OK  |  OK  |  OK  | 
| lemming  | Windows Server 2003 (32-bit) / x64  |  OK  |  ERROR  |  OK  | 
* checking for file 'GEOquery/DESCRIPTION' ... OK
* preparing 'GEOquery':
* checking DESCRIPTION meta-information ... OK
* installing the package to re-build vignettes
/tmp/Rinst100393300
* Installing *source* package 'GEOquery' ...
** R
** inst
** help
Note: removing empty section \usage
Note: removing empty section \details
Note: removing empty section \arguments
 >>> Building/Updating help pages for package 'GEOquery'
     Formats: text html latex example 
  GDS-class                         text    html    latex
  GDS2MA                            text    html    latex   example
  GEOData-class                     text    html    latex
  GEODataTable-class                text    html    latex
  GPL-class                         text    html    latex
  GSE-class                         text    html    latex
  GSM-class                         text    html    latex
  dataTable                         text    html    latex
  getGEO                            text    html    latex   example
  getGEOfile                        text    html    latex   example
  gunzip                            text    html    latex
  parseGEO                          text    html    latex
** building package indices ...
* DONE (GEOquery)
* creating vignettes ... OK
* removing junk files
* checking for LF line-endings in source and make files
* checking for empty or unneeded directories
* building 'GEOquery_2.3.0.tar.gz'