GEOquery 2.3.0 Sean Davis
 | Snapshot Date: 2007-12-11 00:09:07 -0800 (Tue, 11 Dec 2007) |  | URL: https://hedgehog.fhcrc.org/bioconductor/trunk/madman/Rpacks/GEOquery |  | Last Changed Rev: 28557 / Revision: 29143 |  | Last Changed Date: 2007-11-07 23:00:31 -0800 (Wed, 07 Nov 2007) |  
  | lamb1  | Linux (SUSE 10.1) / x86_64  |  OK  |  OK  |  | 
| wilson2  | Linux (openSUSE 10.3) / x86_64  |  OK  |  OK  |  | 
| wellington  | Linux (openSUSE 10.3) / i686  |  OK  |  OK  |  | 
| liverpool  | Windows Server 2003 R2 (32-bit) / x64  |  OK  |  OK  |  OK  | 
| lemming  | Windows Server 2003 (32-bit) / x64  |  OK  |  ERROR  | [ OK ] | 
installing R.css in D:/biocbld/bbs-2.2-bioc/meat/GEOquery.buildbin-libdir
Using auto-selected zip options ''
---------- Making package GEOquery ------------
  adding build stamp to DESCRIPTION
  installing NAMESPACE file and metadata
  installing R files
  installing inst files
  installing man source files
  installing indices
  installing help
Note: removing empty section \usage
Note: removing empty section \details
Note: removing empty section \arguments
Note: removing empty section \usage
Note: removing empty section \details
Note: removing empty section \arguments
 >>> Building/Updating help pages for package 'GEOquery'
     Formats: text html latex example chm 
  GDS-class                         text    html    latex           chm
  GDS2MA                            text    html    latex   example chm
  GEOData-class                     text    html    latex           chm
  GEODataTable-class                text    html    latex           chm
  GPL-class                         text    html    latex           chm
  GSE-class                         text    html    latex           chm
  GSM-class                         text    html    latex           chm
  dataTable                         text    html    latex           chm
  getGEO                            text    html    latex   example chm
  getGEOfile                        text    html    latex   example chm
  gunzip                            text    html    latex           chm
  parseGEO                          text    html    latex           chm
Microsoft HTML Help Compiler 4.74.8702
Compiling d:\biocbld\bbs-2.2-bioc\meat\R.INSTALL.1592\GEOquery\chm\GEOquery.chm
Compile time: 0 minutes, 0 seconds
13	Topics
63	Local links
1	Internet link
1	Graphic
Created d:\biocbld\bbs-2.2-bioc\meat\R.INSTALL.1592\GEOquery\chm\GEOquery.chm, 30,603 bytes
Compression decreased file by 13,619 bytes.
  adding MD5 sums
packaged installation of package 'GEOquery' as GEOquery_2.3.0.zip
* DONE (GEOquery)