Back to the "Multiple platform build/check report"

BioC experimental data: BUILD report for RNAseqData.HeLa.bam.chr14 on zin2

This page was generated on 2014-01-06 16:07:41 -0800 (Mon, 06 Jan 2014).

Package 156/186HostnameOS / ArchBUILDCHECKBUILD BIN
RNAseqData.HeLa.bam.chr14 0.1.6
H. Pages
Snapshot Date: 2014-01-06 07:15:21 -0800 (Mon, 06 Jan 2014)
URL: https://hedgehog.fhcrc.org/bioc-data/trunk/experiment/pkgs/RNAseqData.HeLa.bam.chr14
Last Changed Rev: 2646 / Revision: 2662
Last Changed Date: 2013-12-13 11:44:17 -0800 (Fri, 13 Dec 2013)
zin2 Linux (Ubuntu 12.04.2 LTS) / x86_64 [ OK ] ERROR 
moscato2 Windows Server 2008 R2 Enterprise SP1 (64-bit) / x64  OK  ERROR  OK 
petty Mac OS X Snow Leopard (10.6.8) / x86_64  OK  ERROR  OK 

Summary

Package: RNAseqData.HeLa.bam.chr14
Version: 0.1.6
Command: /home/biocbuild/bbs-2.14-bioc/R/bin/R CMD build --keep-empty-dirs --no-resave-data RNAseqData.HeLa.bam.chr14
StartedAt: 2014-01-06 09:28:46 -0800 (Mon, 06 Jan 2014)
EndedAt: 2014-01-06 09:28:48 -0800 (Mon, 06 Jan 2014)
EllapsedTime: 2.1 seconds
RetCode: 0
Status:  OK 
PackageFile: RNAseqData.HeLa.bam.chr14_0.1.6.tar.gz
PackageFileSize: 2.58 KiB

Command output

* checking for file ‘RNAseqData.HeLa.bam.chr14/DESCRIPTION’ ... OK
* preparing ‘RNAseqData.HeLa.bam.chr14’:
* checking DESCRIPTION meta-information ... OK
* checking for LF line-endings in source and make files
* checking for empty or unneeded directories
* building ‘RNAseqData.HeLa.bam.chr14_0.1.6.tar.gz’