Back to the "Multiple platform build/check report"

BioC experimental data: BUILD BIN report for RNAseqData.HeLa.bam.chr14 on moscato2

This page was generated on 2014-01-06 16:08:00 -0800 (Mon, 06 Jan 2014).

Package 156/186HostnameOS / ArchBUILDCHECKBUILD BIN
RNAseqData.HeLa.bam.chr14 0.1.6
H. Pages
Snapshot Date: 2014-01-06 07:15:21 -0800 (Mon, 06 Jan 2014)
URL: https://hedgehog.fhcrc.org/bioc-data/trunk/experiment/pkgs/RNAseqData.HeLa.bam.chr14
Last Changed Rev: 2646 / Revision: 2662
Last Changed Date: 2013-12-13 11:44:17 -0800 (Fri, 13 Dec 2013)
zin2 Linux (Ubuntu 12.04.2 LTS) / x86_64  OK  ERROR 
moscato2 Windows Server 2008 R2 Enterprise SP1 (64-bit) / x64  OK  ERROR [ OK ]
petty Mac OS X Snow Leopard (10.6.8) / x86_64  OK  ERROR  OK 

Summary

Package: RNAseqData.HeLa.bam.chr14
Version: 0.1.6
Command: rm -rf RNAseqData.HeLa.bam.chr14.buildbin-libdir && mkdir RNAseqData.HeLa.bam.chr14.buildbin-libdir && E:\biocbld\bbs-2.14-bioc\R\bin\R.exe CMD INSTALL --build --merge-multiarch --library=RNAseqData.HeLa.bam.chr14.buildbin-libdir RNAseqData.HeLa.bam.chr14_0.1.6.tar.gz
StartedAt: 2014-01-06 14:07:16 -0800 (Mon, 06 Jan 2014)
EndedAt: 2014-01-06 14:08:22 -0800 (Mon, 06 Jan 2014)
EllapsedTime: 65.8 seconds
RetCode: 0
Status:  OK  
PackageFile: RNAseqData.HeLa.bam.chr14_0.1.6.zip
PackageFileSize: 17.37 KiB

Command output


install for i386

* installing *source* package 'RNAseqData.HeLa.bam.chr14' ...
** R
** preparing package for lazy loading
** help
*** installing help indices
** building package indices
** testing if installed package can be loaded
Warning: 
                    * * * * * * * * * * * * * * * * * * * *
 The RNAseqData.HeLa.bam.chr14 package was renamed RNAseqData.HNRNPC.bam.chr14.
        RNAseqData.HeLa.bam.chr14 is still available but is DEPRECATED.
          Please use the RNAseqData.HNRNPC.bam.chr14 package instead.
                    * * * * * * * * * * * * * * * * * * * *

install for x64

* installing *source* package 'RNAseqData.HeLa.bam.chr14' ...
** testing if installed package can be loaded
Warning: 
                    * * * * * * * * * * * * * * * * * * * *
 The RNAseqData.HeLa.bam.chr14 package was renamed RNAseqData.HNRNPC.bam.chr14.
        RNAseqData.HeLa.bam.chr14 is still available but is DEPRECATED.
          Please use the RNAseqData.HNRNPC.bam.chr14 package instead.
                    * * * * * * * * * * * * * * * * * * * *
* MD5 sums
packaged installation of 'RNAseqData.HeLa.bam.chr14' as RNAseqData.HeLa.bam.chr14_0.1.6.zip
* DONE (RNAseqData.HeLa.bam.chr14)