| aCGH 1.40.0 Peter Dimitrov
 
 | Snapshot Date: 2014-04-04 16:20:29 -0700 (Fri, 04 Apr 2014) |  | URL: https://hedgehog.fhcrc.org/bioconductor/branches/RELEASE_2_13/madman/Rpacks/aCGH |  | Last Changed Rev: 81642 / Revision: 88450 |  | Last Changed Date: 2013-10-14 14:29:21 -0700 (Mon, 14 Oct 2013) | 
 | zin1 | Linux (Ubuntu 12.04.4 LTS) / x86_64 | OK | [ OK ] |  | 
| moscato1 | Windows Server 2008 R2 Enterprise SP1 (64-bit) / x64 | OK | OK | OK | 
| perceval | Mac OS X Snow Leopard (10.6.8) / x86_64 | OK | OK | OK | 
* using log directory ‘/home/biocbuild/bbs-2.13-bioc/meat/aCGH.Rcheck’
* using R version 3.0.3 (2014-03-06)
* using platform: x86_64-unknown-linux-gnu (64-bit)
* using session charset: UTF-8
* using option ‘--no-vignettes’
* checking for file ‘aCGH/DESCRIPTION’ ... OK
* this is package ‘aCGH’ version ‘1.40.0’
* checking package namespace information ... OK
* checking package dependencies ... OK
* checking if this is a source package ... OK
* checking if there is a namespace ... OK
* checking for hidden files and directories ... OK
* checking for portable file names ... OK
* checking for sufficient/correct file permissions ... OK
* checking whether package ‘aCGH’ can be installed ... [4s/4s] OK
* checking installed package size ... OK
* checking package directory ... OK
* checking ‘build’ directory ... OK
* checking DESCRIPTION meta-information ... NOTE
Packages listed in more than one of Depends, Imports, Suggests, Enhances:
  ‘cluster’ ‘multtest’ ‘survival’
A package should be listed in only one of these fields.
* checking top-level files ... OK
* checking for left-over files ... OK
* checking index information ... OK
* checking package subdirectories ... OK
* checking R files for non-ASCII characters ... OK
* checking R files for syntax errors ... OK
* checking whether the package can be loaded ... OK
* checking whether the package can be loaded with stated dependencies ... OK
* checking whether the package can be unloaded cleanly ... OK
* checking whether the namespace can be loaded with stated dependencies ... OK
* checking whether the namespace can be unloaded cleanly ... OK
* checking dependencies in R code ... NOTE
Missing or unexported object: ‘multtest::.mt.naNUM’
See the information on DESCRIPTION files in the chapter ‘Creating R
packages’ of the ‘Writing R Extensions’ manual.
* checking S3 generic/method consistency ... OK
* checking replacement functions ... OK
* checking foreign function calls ... OK
* checking R code for possible problems ... NOTE
aCGH.read.Sprocs: warning in read.table(fnames[1], h = TRUE, sep =
  "\t", quote = "", comment.char = "", fill = TRUE, blank.lines.skip =
  FALSE): partial argument match of 'h' to 'header'
aCGH.read.Sprocs: warning in read.table(latest.mapping.file, sep =
  "\t", h = TRUE, quote = "", comment.char = ""): partial argument
  match of 'h' to 'header'
plotCGH.func: warning in close.screen(all = TRUE): partial argument
  match of 'all' to 'all.screens'
plotCGH.hmm.func: warning in close.screen(all = TRUE): partial argument
  match of 'all' to 'all.screens'
plotFreqStat: warning in axis(side = 1, at = kb.loc[ind][1], label =
  "", tick = FALSE): partial argument match of 'label' to 'labels'
plotGenome: warning in axis(side = 1, at = clone.genomepos[1]/1000,
  label = "", tick = FALSE): partial argument match of 'label' to
  'labels'
read.Sproc.files : <anonymous>: warning in read.table(fname, h = TRUE,
  sep = "\t", quote = "", comment.char = "", fill = TRUE,
  blank.lines.skip = FALSE, dec = "."): partial argument match of 'h'
  to 'header'
states.hmm.func: warning in matrix(res$filtered.cond.probs, nr = k):
  partial argument match of 'nr' to 'nrow'
states.hmm.func: warning in matrix(res$gamma, nr = k): partial argument
  match of 'nr' to 'nrow'
plotSummaryProfile: no visible binding for global variable
  ‘numchromgain’
plotSummaryProfile: no visible binding for global variable
  ‘numchromloss’
plotSummaryProfile: no visible binding for global variable ‘numtrans’
plotSummaryProfile: no visible binding for global variable
  ‘numtrans.binary’
plotSummaryProfile: no visible binding for global variable ‘numaber’
plotSummaryProfile: no visible binding for global variable ‘numamplif’
plotSummaryProfile: no visible binding for global variable
  ‘numamplif.binary’
plotSummaryProfile: no visible binding for global variable
  ‘numamplicon’
plotSummaryProfile: no visible binding for global variable
  ‘sizeamplicon’
* checking Rd files ... OK
* checking Rd metadata ... OK
* checking Rd cross-references ... OK
* checking for missing documentation entries ... OK
* checking for code/documentation mismatches ... OK
* checking Rd \usage sections ... OK
* checking Rd contents ... OK
* checking for unstated dependencies in examples ... OK
* checking contents of ‘data’ directory ... OK
* checking data for non-ASCII characters ... OK
* checking data for ASCII and uncompressed saves ... OK
* checking line endings in C/C++/Fortran sources/headers ... OK
* checking line endings in Makefiles ... OK
* checking compilation flags in Makevars ... OK
* checking for portable use of $(BLAS_LIBS) and $(LAPACK_LIBS) ... OK
* checking compiled code ... OK
* checking installed files from ‘inst/doc’ ... OK
* checking for old-style vignette sources ... NOTE
Vignette sources only in ‘inst/doc’:
  ‘aCGH.Rnw’
A ‘vignettes’ directory will be required as from R 3.1.0
* checking examples ... [19s/19s] OK
Examples with CPU or elapsed time > 5s
              user system elapsed
plotFreqStat 4.984   0.02   5.015
* checking for unstated dependencies in vignettes ... OK
* checking package vignettes in ‘inst/doc’ ... OK
* checking running R code from vignettes ... SKIPPED
* checking re-building of vignette outputs ... SKIPPED
* checking PDF version of manual ... OK
NOTE: There were 4 notes.
See
  ‘/home/biocbuild/bbs-2.13-bioc/meat/aCGH.Rcheck/00check.log’
for details.
 
* installing *source* package ‘aCGH’ ...
** libs
g++ -I/home/biocbuild/bbs-2.13-bioc/R/include -DNDEBUG -g3 -I/usr/local/include    -fpic  -g -O2  -Wall -c hmm.cpp -o hmm.o
g++ -shared -L/usr/local/lib -o aCGH.so hmm.o -lm -L/home/biocbuild/bbs-2.13-bioc/R/lib -lR
installing to /home/biocbuild/bbs-2.13-bioc/meat/aCGH.Rcheck/aCGH/libs
** R
** data
** demo
** inst
** preparing package for lazy loading
** help
*** installing help indices
** building package indices
** installing vignettes
** testing if installed package can be loaded
* DONE (aCGH)