| aCGH 1.40.0 Peter Dimitrov
 
 | Snapshot Date: 2014-04-04 16:20:29 -0700 (Fri, 04 Apr 2014) |  | URL: https://hedgehog.fhcrc.org/bioconductor/branches/RELEASE_2_13/madman/Rpacks/aCGH |  | Last Changed Rev: 81642 / Revision: 88450 |  | Last Changed Date: 2013-10-14 14:29:21 -0700 (Mon, 14 Oct 2013) | 
 | zin1 | Linux (Ubuntu 12.04.4 LTS) / x86_64 | OK | OK |  | 
| moscato1 | Windows Server 2008 R2 Enterprise SP1 (64-bit) / x64 | OK | OK | [ OK ] | 
| perceval | Mac OS X Snow Leopard (10.6.8) / x86_64 | OK | OK | OK | 
  adding: data/ (256 bytes security) (stored 0%)
  adding: data/colorectal.rda (188 bytes security) (deflated 0%)
  adding: data/datalist (188 bytes security) (deflated 17%)
  adding: demo/ (256 bytes security) (stored 0%)
  adding: demo/aCGH.R (188 bytes security) (deflated 61%)
  adding: DESCRIPTION (188 bytes security) (deflated 44%)
  adding: doc/ (256 bytes security) (stored 0%)
  adding: doc/aCGH.bib (188 bytes security) (deflated 72%)
  adding: doc/aCGH.pdf (188 bytes security) (deflated 7%)
  adding: doc/aCGH.R (188 bytes security) (deflated 77%)
  adding: doc/aCGH.Rnw (188 bytes security) (deflated 66%)
  adding: doc/index.html (188 bytes security) (deflated 58%)
  adding: examples/ (256 bytes security) (stored 0%)
  adding: examples/clones.info.ex.txt (188 bytes security) (deflated 69%)
  adding: examples/human.clones.info.Jul03.txt (188 bytes security) (deflated 69%)
  adding: examples/log2.ratios.ex.txt (188 bytes security) (deflated 62%)
  adding: examples/pheno.type.ex.txt (188 bytes security) (deflated 44%)
  adding: examples/sprocCR40.txt (188 bytes security) (deflated 69%)
  adding: examples/sprocCR43.txt (188 bytes security) (deflated 69%)
  adding: help/ (256 bytes security) (stored 0%)
  adding: help/aCGH.rdb (188 bytes security) (deflated 1%)
  adding: help/aCGH.rdx (188 bytes security) (stored 0%)
  adding: help/aliases.rds (188 bytes security) (stored 0%)
  adding: help/AnIndex (188 bytes security) (deflated 73%)
  adding: help/paths.rds (188 bytes security) (stored 0%)
  adding: html/ (256 bytes security) (stored 0%)
  adding: html/00Index.html (188 bytes security) (deflated 85%)
  adding: html/R.css (188 bytes security) (deflated 70%)
  adding: INDEX (188 bytes security) (deflated 65%)
  adding: libs/ (256 bytes security) (stored 0%)
  adding: libs/i386/ (256 bytes security) (stored 0%)
  adding: libs/i386/aCGH.dll (188 bytes security) (deflated 62%)
  adding: libs/x64/ (256 bytes security) (stored 0%)
  adding: libs/x64/aCGH.dll (188 bytes security) (deflated 65%)
  adding: MD5 (188 bytes security) (deflated 43%)
  adding: Meta/ (256 bytes security) (stored 0%)
  adding: Meta/data.rds (188 bytes security) (stored 0%)
  adding: Meta/demo.rds (188 bytes security) (stored 0%)
  adding: Meta/hsearch.rds (188 bytes security) (stored 0%)
  adding: Meta/links.rds (188 bytes security) (stored 0%)
  adding: Meta/nsInfo.rds (188 bytes security) (stored 0%)
  adding: Meta/package.rds (188 bytes security) (stored 0%)
  adding: Meta/Rd.rds (188 bytes security) (stored 0%)
  adding: Meta/vignette.rds (188 bytes security) (stored 0%)
  adding: NAMESPACE (188 bytes security) (deflated 51%)
  adding: R/ (256 bytes security) (stored 0%)
  adding: R/aCGH (188 bytes security) (deflated 41%)
  adding: R/aCGH.rdb (188 bytes security) (deflated 5%)
  adding: R/aCGH.rdx (188 bytes security) (stored 0%)