parathyroidSE 0.99.5 Michael Love
Snapshot Date: 2013-08-08 10:15:17 -0700 (Thu, 08 Aug 2013) | URL: https://hedgehog.fhcrc.org/bioc-data/trunk/experiment/pkgs/parathyroidSE | Last Changed Rev: 2346 / Revision: 2418 | Last Changed Date: 2013-05-14 11:56:06 -0700 (Tue, 14 May 2013) |
| george2 | Linux (Ubuntu 12.04.1 LTS) / x86_64 | OK | OK | |
moscato2 | Windows Server 2008 R2 Enterprise SP1 (64-bit) / x64 | OK | OK | OK |
petty | Mac OS X Snow Leopard (10.6.8) / x86_64 | OK | OK | [ OK ] |
>>>>>>>
>>>>>>> INSTALLATION WITH 'R CMD INSTALL --preclean --no-multiarch --library=parathyroidSE.buildbin-libdir parathyroidSE_0.99.5.tar.gz'
>>>>>>>
* installing *source* package 'parathyroidSE' ...
** data
** inst
** help
*** installing help indices
** building package indices
** installing vignettes
** testing if installed package can be loaded
* DONE (parathyroidSE)