Back to the "Multiple platform build/check report"

BioC experimental data: CHECK report for parathyroidSE on moscato2

This page was generated on 2013-08-08 16:07:02 -0700 (Thu, 08 Aug 2013).

Package 111/156HostnameOS / ArchBUILDCHECKBUILD BIN
parathyroidSE 0.99.5
Michael Love
Snapshot Date: 2013-08-08 10:15:17 -0700 (Thu, 08 Aug 2013)
URL: https://hedgehog.fhcrc.org/bioc-data/trunk/experiment/pkgs/parathyroidSE
Last Changed Rev: 2346 / Revision: 2418
Last Changed Date: 2013-05-14 11:56:06 -0700 (Tue, 14 May 2013)
george2 Linux (Ubuntu 12.04.1 LTS) / x86_64  OK  OK 
moscato2 Windows Server 2008 R2 Enterprise SP1 (64-bit) / x64  OK [ OK ] OK 
petty Mac OS X Snow Leopard (10.6.8) / x86_64  OK  OK  OK 

Summary

Package: parathyroidSE
Version: 0.99.5
Command: rm -rf parathyroidSE.buildbin-libdir && mkdir parathyroidSE.buildbin-libdir && E:\biocbld\bbs-2.12-bioc\R\bin\R.exe CMD INSTALL --build --merge-multiarch --library=parathyroidSE.buildbin-libdir parathyroidSE_0.99.5.tar.gz >parathyroidSE-install.out 2>&1 && E:\biocbld\bbs-2.12-bioc\R\bin\R.exe CMD check --library=parathyroidSE.buildbin-libdir --install="check:parathyroidSE-install.out" --force-multiarch --no-vignettes --timings parathyroidSE_0.99.5.tar.gz && mv parathyroidSE.buildbin-libdir/* parathyroidSE.Rcheck/ && rmdir parathyroidSE.buildbin-libdir
StartedAt: 2013-08-08 13:43:21 -0700 (Thu, 08 Aug 2013)
EndedAt: 2013-08-08 13:45:29 -0700 (Thu, 08 Aug 2013)
EllapsedTime: 128.5 seconds
RetCode: 0
Status:  OK  
CheckDir: parathyroidSE.Rcheck
Warnings: 0

Command output

* using log directory 'E:/biocbld/bbs-2.12-data-experiment/meat/parathyroidSE.Rcheck'
* using R version 3.0.1 (2013-05-16)
* using platform: i386-w64-mingw32 (32-bit)
* using session charset: ISO8859-1
* using option '--no-vignettes'
* checking for file 'parathyroidSE/DESCRIPTION' ... OK
* this is package 'parathyroidSE' version '0.99.5'
* checking package namespace information ... OK
* checking package dependencies ... OK
* checking if this is a source package ... OK
* checking if there is a namespace ... OK
* checking for hidden files and directories ... OK
* checking for portable file names ... OK
* checking whether package 'parathyroidSE' can be installed ... OK
* checking installed package size ... NOTE
  installed size is 21.4Mb
  sub-directories of 1Mb or more:
    data     19.2Mb
    extdata   2.0Mb
* checking package directory ... OK
* checking DESCRIPTION meta-information ... OK
* checking top-level files ... OK
* checking for left-over files ... OK
* checking index information ... OK
* checking package subdirectories ... OK
* loading checks for arch 'i386'
** checking whether the package can be loaded ... OK
** checking whether the package can be loaded with stated dependencies ... OK
** checking whether the package can be unloaded cleanly ... OK
** checking whether the namespace can be loaded with stated dependencies ... OK
** checking whether the namespace can be unloaded cleanly ... OK
* loading checks for arch 'x64'
** checking whether the package can be loaded ... OK
** checking whether the package can be loaded with stated dependencies ... OK
** checking whether the package can be unloaded cleanly ... OK
** checking whether the namespace can be loaded with stated dependencies ... OK
** checking whether the namespace can be unloaded cleanly ... OK
* checking Rd files ... OK
* checking Rd metadata ... OK
* checking Rd cross-references ... OK
* checking for missing documentation entries ... OK
* checking for code/documentation mismatches ... OK
* checking Rd \usage sections ... OK
* checking Rd contents ... OK
* checking for unstated dependencies in examples ... OK
* checking contents of 'data' directory ... OK
* checking data for non-ASCII characters ... OK
* checking data for ASCII and uncompressed saves ... OK
* checking installed files from 'inst/doc' ... OK
* checking examples ... NONE
* checking for unstated dependencies in vignettes ... NOTE
'::' or ':::' import not declared from: 'BiocInstaller'
* checking package vignettes in 'inst/doc' ... OK
* checking running R code from vignettes ... SKIPPED
* checking re-building of vignettes ... SKIPPED
* checking PDF version of manual ... OK

NOTE: There were 2 notes.
See
  'E:/biocbld/bbs-2.12-data-experiment/meat/parathyroidSE.Rcheck/00check.log'
for details.

parathyroidSE.Rcheck/00install.out:


install for i386

* installing *source* package 'parathyroidSE' ...
** data
** inst
** help
*** installing help indices
** building package indices
** installing vignettes
** testing if installed package can be loaded

install for x64

* installing *source* package 'parathyroidSE' ...
** testing if installed package can be loaded
* MD5 sums
packaged installation of 'parathyroidSE' as parathyroidSE_0.99.5.zip
* DONE (parathyroidSE)