bsseqData 0.1.4 Kasper Daniel Hansen
 | Snapshot Date: 2013-10-08 10:15:19 -0700 (Tue, 08 Oct 2013) |  | URL: https://hedgehog.fhcrc.org/bioc-data/trunk/experiment/pkgs/bsseqData |  | Last Changed Rev: 2389 / Revision: 2510 |  | Last Changed Date: 2013-07-12 07:30:20 -0700 (Fri, 12 Jul 2013) |  
  | george2  | Linux (Ubuntu 12.04.1 LTS) / x86_64  | [ OK ] |  ERROR  |  | 
| moscato2  | Windows Server 2008 R2 Enterprise SP1 (64-bit) / x64  |  OK  |  ERROR  |  ERROR  | 
| petty  | Mac OS X Snow Leopard (10.6.8) / x86_64  |  OK  |  ERROR  |  ERROR  | 
* checking for file ‘bsseqData/DESCRIPTION’ ... OK
* preparing ‘bsseqData’:
* checking DESCRIPTION meta-information ... OK
* checking for LF line-endings in source and make files
* checking for empty or unneeded directories
* looking to see if a ‘data/datalist’ file should be added
* building ‘bsseqData_0.1.4.tar.gz’