BiocInstaller 1.10.1 Bioconductor Package Maintainer
Snapshot Date: 2013-04-30 17:01:37 -0700 (Tue, 30 Apr 2013) | URL: https://hedgehog.fhcrc.org/bioconductor/branches/RELEASE_2_12/madman/Rpacks/BiocInstaller | Last Changed Rev: 76085 / Revision: 76155 | Last Changed Date: 2013-04-26 14:35:53 -0700 (Fri, 26 Apr 2013) |
| george2 | Linux (Ubuntu 12.04.1 LTS) / x86_64 | OK | OK | |
moscato2 | Windows Server 2008 R2 Enterprise SP1 (64-bit) / x64 | OK | OK | OK |
petty | Mac OS X Snow Leopard (10.6.8) / x86_64 | OK | OK | OK |
pelham | Mac OS X Snow Leopard (10.6.8) / x86_64 | OK | OK | [ OK ] |
>>>>>>>
>>>>>>> INSTALLATION WITH 'R CMD INSTALL --preclean --no-multiarch --library=BiocInstaller.buildbin-libdir BiocInstaller_1.10.1.tar.gz'
>>>>>>>
* installing *source* package 'BiocInstaller' ...
** R
** inst
** preparing package for lazy loading
** help
*** installing help indices
** building package indices
** testing if installed package can be loaded
Bioconductor version 2.12 (BiocInstaller 1.10.1), ?biocLite for help
* DONE (BiocInstaller)