| Back to the "Multiple platform build/check report" | A [B] C D E F G H I J K L M N O P Q R S T U V W X Y Z | 
This page was generated on 2013-10-09 09:38:57 -0700 (Wed, 09 Oct 2013).
| Package 73/671 | Hostname | OS / Arch | BUILD | CHECK | BUILD BIN | ||||
| BiocInstaller 1.10.3 Bioconductor Package Maintainer 
 | george2 | Linux (Ubuntu 12.04.1 LTS) / x86_64 | OK | OK | |||||
| moscato2 | Windows Server 2008 R2 Enterprise SP1 (64-bit) / x64 | [ OK ] | OK | OK | |||||
| petty | Mac OS X Snow Leopard (10.6.8) / x86_64 | OK | OK | OK | 
| Package: BiocInstaller | 
| Version: 1.10.3 | 
| Command: chmod a+r BiocInstaller -R && E:\biocbld\bbs-2.12-bioc\R\bin\R.exe CMD build --keep-empty-dirs --no-resave-data BiocInstaller | 
| StartedAt: 2013-10-09 00:11:30 -0700 (Wed, 09 Oct 2013) | 
| EndedAt: 2013-10-09 00:11:46 -0700 (Wed, 09 Oct 2013) | 
| EllapsedTime: 16.5 seconds | 
| RetCode: 0 | 
| Status: OK | 
| PackageFile: BiocInstaller_1.10.3.tar.gz | 
| PackageFileSize: 13.07 KiB | 
* checking for file 'BiocInstaller/DESCRIPTION' ... OK * preparing 'BiocInstaller': * checking DESCRIPTION meta-information ... OK * checking for LF line-endings in source and make files * checking for empty or unneeded directories * building 'BiocInstaller_1.10.3.tar.gz'