| Back to the "Multiple platform build/check report" | A B [C] D E F G H I J K L M N O P Q R S T U V W X Y Z | 
| Package 151/655 | Hostname | OS / Arch | BUILD | CHECK | BUILD BIN | ||||
| cosmoGUI 1.25.1 Oliver Bembom 
  | george2 | Linux (Ubuntu 12.04.1 LTS) / x86_64 | OK | ERROR | |||||
| moscato2 | Windows Server 2008 R2 Enterprise SP1 (64-bit) / x64 | OK | ERROR | ERROR | |||||
| petty | Mac OS X Leopard (10.5.8) / i386 | [ OK ] | ERROR | ERROR | 
| Package: cosmoGUI | 
| Version: 1.25.1 | 
| Command: /Library/Frameworks/R.framework/Versions/Current/Resources/bin/R CMD build --keep-empty-dirs --no-resave-data cosmoGUI | 
| StartedAt: 2013-03-18 22:57:11 -0700 (Mon, 18 Mar 2013) | 
| EndedAt: 2013-03-18 22:57:12 -0700 (Mon, 18 Mar 2013) | 
| EllapsedTime: 0.9 seconds | 
| RetCode: 0 | 
| Status: OK | 
| PackageFile: cosmoGUI_1.25.1.tar.gz | 
| PackageFileSize: 11.04 KiB | 
* checking for file 'cosmoGUI/DESCRIPTION' ... OK * preparing 'cosmoGUI': * checking DESCRIPTION meta-information ... OK * checking for LF line-endings in source and make files * checking for empty or unneeded directories * building 'cosmoGUI_1.25.1.tar.gz'