| Back to the "Multiple platform build/check report" | A B [C] D E F G H I J K L M N O P Q R S T U V W X Y Z | 
| Package 151/655 | Hostname | OS / Arch | BUILD | CHECK | BUILD BIN | ||||
| cosmoGUI 1.25.1 Oliver Bembom 
  | george2 | Linux (Ubuntu 12.04.1 LTS) / x86_64 | OK | ERROR | |||||
| moscato2 | Windows Server 2008 R2 Enterprise SP1 (64-bit) / x64 | OK | ERROR | ERROR | |||||
| petty | Mac OS X Leopard (10.5.8) / i386 | OK | ERROR | [ ERROR ] | 
| Package: cosmoGUI | 
| Version: 1.25.1 | 
| Command: rm -rf cosmoGUI.buildbin-libdir && mkdir cosmoGUI.buildbin-libdir && /Users/biocbuild/BBS/utils/build-universal.sh cosmoGUI_1.25.1.tar.gz /Library/Frameworks/R.framework/Versions/Current/Resources/bin/R cosmoGUI.buildbin-libdir | 
| StartedAt: 2013-03-19 05:07:16 -0700 (Tue, 19 Mar 2013) | 
| EndedAt: 2013-03-19 05:07:23 -0700 (Tue, 19 Mar 2013) | 
| EllapsedTime: 7.8 seconds | 
| RetCode: 1 | 
| Status: ERROR | 
| PackageFile: None | 
| PackageFileSize: NA | 
>>>>>>> >>>>>>> INSTALLATION WITH 'R CMD INSTALL --preclean --no-multiarch --library=cosmoGUI.buildbin-libdir cosmoGUI_1.25.1.tar.gz' >>>>>>> ERROR: dependency 'cosmo' is not available for package 'cosmoGUI' * removing '/Users/biocbuild/bbs-2.12-bioc/meat/cosmoGUI.buildbin-libdir/cosmoGUI'