Back to the "Multiple platform build/check report" A  B  C  D  E  F  G  H  I  J  K  L [M] N  O  P  Q  R  S  T  U  V  W  X  Y  Z 

Package 383/658HostnameOS / ArchBUILDCHECKBUILD BIN
maSigPro 1.31.0
Maria Jose Nueda
Snapshot Date: 2013-03-23 17:02:20 -0700 (Sat, 23 Mar 2013)
URL: https://hedgehog.fhcrc.org/bioconductor/trunk/madman/Rpacks/maSigPro
Last Changed Rev: 72015 / Revision: 74756
Last Changed Date: 2012-12-18 03:14:50 -0800 (Tue, 18 Dec 2012)
george2 Linux (Ubuntu 12.04.1 LTS) / x86_64  OK  OK 
moscato2 Windows Server 2008 R2 Enterprise SP1 (64-bit) / x64  OK  OK  OK 
petty Mac OS X Leopard (10.5.8) / i386  OK  OK  OK 
pelham Mac OS X Snow Leopard (10.6.8) / x86_64  OK [ OK ] OK 

Summary

Package: maSigPro
Version: 1.31.0
Command: /Library/Frameworks/R.framework/Versions/Current/Resources/bin/R CMD check --no-vignettes --timings --no-multiarch maSigPro_1.31.0.tar.gz
StartedAt: 2013-03-24 07:20:59 -0700 (Sun, 24 Mar 2013)
EndedAt: 2013-03-24 07:23:37 -0700 (Sun, 24 Mar 2013)
EllapsedTime: 157.2 seconds
RetCode: 0
Status:  OK 
CheckDir: maSigPro.Rcheck
Warnings: 0

Command output

* using log directory '/Users/biocbuild/bbs-2.12-bioc/meat/maSigPro.Rcheck'
* using R version 3.0.0 beta (2013-03-21 r62346)
* using platform: x86_64-apple-darwin10.8.0 (64-bit)
* using session charset: ASCII
* using option '--no-vignettes'
* checking for file 'maSigPro/DESCRIPTION' ... OK
* checking extension type ... Package
* this is package 'maSigPro' version '1.31.0'
* checking package namespace information ... OK
* checking package dependencies ... OK
* checking if this is a source package ... OK
* checking if there is a namespace ... OK
* checking for hidden files and directories ... OK
* checking for portable file names ... OK
* checking for sufficient/correct file permissions ... OK
* checking whether package 'maSigPro' can be installed ... [8s/10s] OK
* checking installed package size ... OK
* checking package directory ... OK
* checking DESCRIPTION meta-information ... OK
* checking top-level files ... OK
* checking for left-over files ... OK
* checking index information ... OK
* checking package subdirectories ... OK
* checking R files for non-ASCII characters ... OK
* checking R files for syntax errors ... OK
* checking whether the package can be loaded ... OK
* checking whether the package can be loaded with stated dependencies ... OK
* checking whether the package can be unloaded cleanly ... OK
* checking whether the namespace can be loaded with stated dependencies ... OK
* checking whether the namespace can be unloaded cleanly ... OK
* checking for unstated dependencies in R code ... OK
* checking S3 generic/method consistency ... OK
* checking replacement functions ... OK
* checking foreign function calls ... OK
* checking R code for possible problems ... NOTE
NB: .First.lib is obsolete and will not be used in R >= 3.0.0
File 'maSigPro/R/zzz.R':
  .First.lib calls:
    require(Biobase)

Package startup functions should not change the search path.
See section 'Good practice' in '?.onAttach'.

see.genes: warning in mfuzz(signif, c = k, m = m): partial argument
  match of 'c' to 'centers'
* checking Rd files ... OK
* checking Rd metadata ... OK
* checking Rd cross-references ... OK
* checking for missing documentation entries ... OK
* checking for code/documentation mismatches ... OK
* checking Rd \usage sections ... OK
* checking Rd contents ... OK
* checking for unstated dependencies in examples ... OK
* checking contents of 'data' directory ... OK
* checking data for non-ASCII characters ... OK
* checking data for ASCII and uncompressed saves ... OK
* checking installed files from 'inst/doc' ... OK
* checking examples ... [56s/57s] OK
Examples with CPU or elapsed time > 5s
               user system elapsed
T.fit        17.599  1.691  19.524
maSigPro     11.799  1.189  13.088
get.siggenes  8.240  0.858   9.200
p.vector      5.439  0.583   6.511
* checking for unstated dependencies in vignettes ... OK
* checking package vignettes in 'inst/doc' ... OK
* checking running R code from vignettes ... SKIPPED
* checking re-building of vignettes ... SKIPPED
* checking PDF version of manual ... OK

NOTE: There was 1 note.
See
  '/Users/biocbuild/bbs-2.12-bioc/meat/maSigPro.Rcheck/00check.log'
for details.

maSigPro.Rcheck/00install.out:

* installing *source* package 'maSigPro' ...
** R
** data
** inst
** preparing package for lazy loading
** help
*** installing help indices
** building package indices
** installing vignettes
   'maSigPro-tutorial.Rnw' 
** testing if installed package can be loaded
Warning: ignoring .First.lib() for package 'maSigPro'
* DONE (maSigPro)

maSigPro.Rcheck/maSigPro-Ex.timings:

nameusersystemelapsed
PlotGroups0.0610.0080.069
PlotProfiles0.0400.0040.045
T.fit17.599 1.69119.524
average.rows0.0250.0020.028
data.abiotic0.0570.0090.066
edesign.OD0.0190.0020.021
edesign.abiotic0.1710.0040.175
edesignCT0.0110.0020.015
edesignDR0.0110.0020.013
get.siggenes8.2400.8589.200
i.rank0.0080.0010.010
maSigPro11.799 1.18913.088
make.design.matrix0.0200.0120.032
p.vector5.4390.5836.511
position0.0110.0010.012
reg.coeffs0.0140.0020.016
see.genes2.2470.3332.937
stepback0.1140.0120.130
stepfor0.4100.0510.506
suma2Venn0.0340.0040.063
two.ways.stepback0.4460.0430.503
two.ways.stepfor0.3810.0460.427