Back to the "Multiple platform build/check report" A  B  C  D  E  F  G  H  I  J  K  L [M] N  O  P  Q  R  S  T  U  V  W  X  Y  Z 

Package 383/658HostnameOS / ArchBUILDCHECKBUILD BIN
maSigPro 1.31.0
Maria Jose Nueda
Snapshot Date: 2013-03-24 17:01:43 -0700 (Sun, 24 Mar 2013)
URL: https://hedgehog.fhcrc.org/bioconductor/trunk/madman/Rpacks/maSigPro
Last Changed Rev: 72015 / Revision: 74774
Last Changed Date: 2012-12-18 03:14:50 -0800 (Tue, 18 Dec 2012)
george2 Linux (Ubuntu 12.04.1 LTS) / x86_64  OK  OK 
moscato2 Windows Server 2008 R2 Enterprise SP1 (64-bit) / x64  OK  OK  OK 
petty Mac OS X Leopard (10.5.8) / i386  OK [ OK ] OK 

Summary

Package: maSigPro
Version: 1.31.0
Command: /Library/Frameworks/R.framework/Versions/Current/Resources/bin/R CMD check --no-vignettes --timings --no-multiarch maSigPro_1.31.0.tar.gz
StartedAt: 2013-03-25 03:25:59 -0700 (Mon, 25 Mar 2013)
EndedAt: 2013-03-25 03:28:01 -0700 (Mon, 25 Mar 2013)
EllapsedTime: 122.4 seconds
RetCode: 0
Status:  OK 
CheckDir: maSigPro.Rcheck
Warnings: 0

Command output

* using log directory '/Users/biocbuild/bbs-2.12-bioc/meat/maSigPro.Rcheck'
* using R Under development (unstable) (2013-02-26 r62077)
* using platform: i386-apple-darwin9.8.0 (32-bit)
* using session charset: ASCII
* using option '--no-vignettes'
* checking for file 'maSigPro/DESCRIPTION' ... OK
* checking extension type ... Package
* this is package 'maSigPro' version '1.31.0'
* checking package namespace information ... OK
* checking package dependencies ... OK
* checking if this is a source package ... OK
* checking if there is a namespace ... OK
* checking for hidden files and directories ... OK
* checking for portable file names ... OK
* checking for sufficient/correct file permissions ... OK
* checking whether package 'maSigPro' can be installed ... [6s/6s] OK
* checking installed package size ... OK
* checking package directory ... OK
* checking DESCRIPTION meta-information ... OK
* checking top-level files ... OK
* checking for left-over files ... OK
* checking index information ... OK
* checking package subdirectories ... OK
* checking R files for non-ASCII characters ... OK
* checking R files for syntax errors ... OK
* checking whether the package can be loaded ... OK
* checking whether the package can be loaded with stated dependencies ... OK
* checking whether the package can be unloaded cleanly ... OK
* checking whether the namespace can be loaded with stated dependencies ... OK
* checking whether the namespace can be unloaded cleanly ... OK
* checking for unstated dependencies in R code ... OK
* checking S3 generic/method consistency ... OK
* checking replacement functions ... OK
* checking foreign function calls ... OK
* checking R code for possible problems ... NOTE
NB: .First.lib is obsolete and will not be used in R >= 3.0.0
File 'maSigPro/R/zzz.R':
  .First.lib calls:
    require(Biobase)

Package startup functions should not change the search path.
See section 'Good practice' in '?.onAttach'.

see.genes: warning in mfuzz(signif, c = k, m = m): partial argument
  match of 'c' to 'centers'
* checking Rd files ... OK
* checking Rd metadata ... OK
* checking Rd cross-references ... OK
* checking for missing documentation entries ... OK
* checking for code/documentation mismatches ... OK
* checking Rd \usage sections ... OK
* checking Rd contents ... OK
* checking for unstated dependencies in examples ... OK
* checking contents of 'data' directory ... OK
* checking data for non-ASCII characters ... OK
* checking data for ASCII and uncompressed saves ... OK
* checking sizes of PDF files under 'inst/doc' ... OK
* checking installed files from 'inst/doc' ... OK
* checking examples ... [40s/41s] OK
Examples with CPU or elapsed time > 5s
               user system elapsed
T.fit        13.910  0.250  14.167
maSigPro      8.489  0.202   8.747
get.siggenes  6.961  0.151   7.115
* checking for unstated dependencies in vignettes ... OK
* checking package vignettes in 'inst/doc' ... OK
* checking running R code from vignettes ... SKIPPED
* checking re-building of vignettes ... SKIPPED
* checking PDF version of manual ... OK

NOTE: There was 1 note.
See
  '/Users/biocbuild/bbs-2.12-bioc/meat/maSigPro.Rcheck/00check.log'
for details.

maSigPro.Rcheck/00install.out:

* installing *source* package 'maSigPro' ...
** R
** data
** inst
** preparing package for lazy loading
** help
*** installing help indices
** building package indices
** installing vignettes
   'maSigPro-tutorial.Rnw' 
** testing if installed package can be loaded
Warning: ignoring .First.lib() for package 'maSigPro'
* DONE (maSigPro)

maSigPro.Rcheck/maSigPro-Ex.timings:

nameusersystemelapsed
PlotGroups0.0730.0270.100
PlotProfiles0.0830.0180.102
T.fit13.910 0.25014.167
average.rows0.0270.0100.037
data.abiotic0.0490.0140.063
edesign.OD0.0120.0080.019
edesign.abiotic0.0130.0070.021
edesignCT0.0110.0070.018
edesignDR0.0130.0070.020
get.siggenes6.9610.1517.115
i.rank0.0100.0070.017
maSigPro8.4890.2028.747
make.design.matrix0.0220.0170.039
p.vector4.3030.1224.430
position0.0130.0070.020
reg.coeffs0.0110.0080.019
see.genes1.4580.1691.884
stepback0.0590.0140.074
stepfor0.2020.0180.221
suma2Venn0.0140.0080.098
two.ways.stepback0.1570.0160.173
two.ways.stepfor0.2110.0190.231