| Back to the "Multiple platform build/check report" | A B C D E F G H [I] J K L M N O P Q R S T U V W X Y Z |
| Package 332/658 | Hostname | OS / Arch | BUILD | CHECK | BUILD BIN | ||||
| illuminaio 0.1.5 Kasper Daniel Hansen
| george2 | Linux (Ubuntu 12.04.1 LTS) / x86_64 | OK | OK | |||||
| moscato2 | Windows Server 2008 R2 Enterprise SP1 (64-bit) / x64 | OK | OK | OK | |||||
| petty | Mac OS X Leopard (10.5.8) / i386 | OK | OK | OK | |||||
| pelham | Mac OS X Snow Leopard (10.6.8) / x86_64 | OK | OK | [ OK ] |
| Package: illuminaio |
| Version: 0.1.5 |
| Command: rm -rf illuminaio.buildbin-libdir && mkdir illuminaio.buildbin-libdir && /Library/Frameworks/R.framework/Versions/Current/Resources/bin/R CMD INSTALL --build --no-multiarch --library=illuminaio.buildbin-libdir illuminaio_0.1.5.tar.gz |
| StartedAt: 2013-03-24 11:49:30 -0700 (Sun, 24 Mar 2013) |
| EndedAt: 2013-03-24 11:49:33 -0700 (Sun, 24 Mar 2013) |
| EllapsedTime: 2.8 seconds |
| RetCode: 0 |
| Status: OK |
| PackageFile: illuminaio_0.1.5.tgz |
| PackageFileSize: 4.768 MiB |
* installing *source* package 'illuminaio' ... ** R ** inst ** preparing package for lazy loading ** help *** installing help indices ** building package indices ** testing if installed package can be loaded packaged installation of 'illuminaio' as 'illuminaio_0.1.5.tgz' * DONE (illuminaio)