gaggle 1.27.1 Christopher Bare
Snapshot Date: 2013-03-23 17:02:20 -0700 (Sat, 23 Mar 2013) | URL: https://hedgehog.fhcrc.org/bioconductor/trunk/madman/Rpacks/gaggle | Last Changed Rev: 70685 / Revision: 74756 | Last Changed Date: 2012-10-19 10:50:22 -0700 (Fri, 19 Oct 2012) |
| george2 | Linux (Ubuntu 12.04.1 LTS) / x86_64 | OK | OK | |
moscato2 | Windows Server 2008 R2 Enterprise SP1 (64-bit) / x64 | OK | OK | OK |
petty | Mac OS X Leopard (10.5.8) / i386 | OK | OK | OK |
pelham | Mac OS X Snow Leopard (10.6.8) / x86_64 | OK | OK | [ OK ] |
* installing *source* package 'gaggle' ...
** R
** inst
** preparing package for lazy loading
** help
*** installing help indices
** building package indices
** installing vignettes
'gaggle.Rnw'
** testing if installed package can be loaded
onLoad -- libname: /Users/biocbuild/bbs-2.12-bioc/meat/gaggle.buildbin-libdir pkgname: gaggle
path to jar: /Users/biocbuild/bbs-2.12-bioc/meat/gaggle.buildbin-libdir/gaggle/jars/gaggleRShell.jar
script: gaggle.R $Revision: 4499 $ $Date: 2010-08-10 17:15:03 -0700 (Tue, 10 Aug 2010) $
os version: Mac OS X
jvm version: 1.6.0_43
packaged installation of 'gaggle' as 'gaggle_1.27.1.tgz'
* DONE (gaggle)