flowPhyto 1.11.0 Chris Berthiaume
Snapshot Date: 2013-03-23 17:02:20 -0700 (Sat, 23 Mar 2013) | URL: https://hedgehog.fhcrc.org/bioconductor/trunk/madman/Rpacks/flowPhyto | Last Changed Rev: 70343 / Revision: 74756 | Last Changed Date: 2012-10-09 08:57:59 -0700 (Tue, 09 Oct 2012) |
| george2 | Linux (Ubuntu 12.04.1 LTS) / x86_64 | OK | OK | |
moscato2 | Windows Server 2008 R2 Enterprise SP1 (64-bit) / x64 | OK | OK | OK |
petty | Mac OS X Leopard (10.5.8) / i386 | OK | OK | OK |
pelham | Mac OS X Snow Leopard (10.6.8) / x86_64 | OK | OK | [ OK ] |
* installing *source* package 'flowPhyto' ...
** R
** inst
** preparing package for lazy loading
Warning: replacing previous import 'plot' when loading 'graphics'
** help
*** installing help indices
** building package indices
** installing vignettes
'flowPhyto.Rnw' using 'UTF-8'
** testing if installed package can be loaded
Warning: replacing previous import 'plot' when loading 'graphics'
packaged installation of 'flowPhyto' as 'flowPhyto_1.11.0.tgz'
* DONE (flowPhyto)