| flowPhyto 1.11.0 Chris Berthiaume
 
 | Snapshot Date: 2013-03-24 17:01:43 -0700 (Sun, 24 Mar 2013) |  | URL: https://hedgehog.fhcrc.org/bioconductor/trunk/madman/Rpacks/flowPhyto |  | Last Changed Rev: 70343 / Revision: 74774 |  | Last Changed Date: 2012-10-09 08:57:59 -0700 (Tue, 09 Oct 2012) | 
 | george2 | Linux (Ubuntu 12.04.1 LTS) / x86_64 | [ OK ] | OK |  | 
| moscato2 | Windows Server 2008 R2 Enterprise SP1 (64-bit) / x64 | OK | OK | OK | 
| petty | Mac OS X Leopard (10.5.8) / i386 | OK | OK | OK | 
* checking for file ‘flowPhyto/DESCRIPTION’ ... OK
* preparing ‘flowPhyto’:
* checking DESCRIPTION meta-information ... OK
* installing the package to re-build vignettes
* creating vignettes ... OK
* checking for LF line-endings in source and make files
* checking for empty or unneeded directories
* building ‘flowPhyto_1.11.0.tar.gz’