| epigenomix 0.99.0 Hans-Ulrich Klein
 
 | Snapshot Date: 2013-03-23 17:02:20 -0700 (Sat, 23 Mar 2013) |  | URL: https://hedgehog.fhcrc.org/bioconductor/trunk/madman/Rpacks/epigenomix |  | Last Changed Rev: 74535 / Revision: 74756 |  | Last Changed Date: 2013-03-18 16:40:59 -0700 (Mon, 18 Mar 2013) | 
 | george2 | Linux (Ubuntu 12.04.1 LTS) / x86_64 | OK | OK |  | 
| moscato2 | Windows Server 2008 R2 Enterprise SP1 (64-bit) / x64 | OK | OK | OK | 
| petty | Mac OS X Leopard (10.5.8) / i386 | OK | OK | OK | 
| pelham | Mac OS X Snow Leopard (10.6.8) / x86_64 | OK | OK | [ OK ] | 
* installing *source* package 'epigenomix' ...
** R
** data
** inst
** preparing package for lazy loading
** help
*** installing help indices
** building package indices
** installing vignettes
   'epigenomix.Rnw' 
** testing if installed package can be loaded
packaged installation of 'epigenomix' as 'epigenomix_0.99.0.tgz'
* DONE (epigenomix)