Back to the "Multiple platform build/check report" A  B [C] D  E  F  G  H  I  J  K  L  M  N  O  P  Q  R  S  T  U  V  W  X  Y  Z 

Package 132/658HostnameOS / ArchBUILDCHECKBUILD BIN
cn.farms 1.7.4
Andreas Mitterecker
Snapshot Date: 2013-03-23 17:02:20 -0700 (Sat, 23 Mar 2013)
URL: https://hedgehog.fhcrc.org/bioconductor/trunk/madman/Rpacks/cn.farms
Last Changed Rev: 74067 / Revision: 74756
Last Changed Date: 2013-03-08 04:57:49 -0800 (Fri, 08 Mar 2013)
george2 Linux (Ubuntu 12.04.1 LTS) / x86_64  OK  OK 
moscato2 Windows Server 2008 R2 Enterprise SP1 (64-bit) / x64  OK  OK  OK 
petty Mac OS X Leopard (10.5.8) / i386  OK  WARNINGS  OK 
pelham Mac OS X Snow Leopard (10.6.8) / x86_64  OK [ OK ] OK 

Summary

Package: cn.farms
Version: 1.7.4
Command: /Library/Frameworks/R.framework/Versions/Current/Resources/bin/R CMD check --no-vignettes --timings --no-multiarch cn.farms_1.7.4.tar.gz
StartedAt: 2013-03-24 03:52:48 -0700 (Sun, 24 Mar 2013)
EndedAt: 2013-03-24 03:57:11 -0700 (Sun, 24 Mar 2013)
EllapsedTime: 262.9 seconds
RetCode: 0
Status:  OK 
CheckDir: cn.farms.Rcheck
Warnings: 0

Command output

* using log directory '/Users/biocbuild/bbs-2.12-bioc/meat/cn.farms.Rcheck'
* using R version 3.0.0 beta (2013-03-21 r62346)
* using platform: x86_64-apple-darwin10.8.0 (64-bit)
* using session charset: ASCII
* using option '--no-vignettes'
* checking for file 'cn.farms/DESCRIPTION' ... OK
* checking extension type ... Package
* this is package 'cn.farms' version '1.7.4'
* checking package namespace information ... OK
* checking package dependencies ... OK
* checking if this is a source package ... OK
* checking if there is a namespace ... OK
* checking for hidden files and directories ... OK
* checking for portable file names ... OK
* checking for sufficient/correct file permissions ... OK
* checking whether package 'cn.farms' can be installed ... [23s/24s] OK
* checking installed package size ... OK
* checking package directory ... OK
* checking DESCRIPTION meta-information ... OK
* checking top-level files ... OK
* checking for left-over files ... OK
* checking index information ... OK
* checking package subdirectories ... OK
* checking R files for non-ASCII characters ... OK
* checking R files for syntax errors ... OK
* checking whether the package can be loaded ... OK
* checking whether the package can be loaded with stated dependencies ... OK
* checking whether the package can be unloaded cleanly ... OK
* checking whether the namespace can be loaded with stated dependencies ... OK
* checking whether the namespace can be unloaded cleanly ... OK
* checking for unstated dependencies in R code ... OK
* checking S3 generic/method consistency ... OK
* checking replacement functions ... OK
* checking foreign function calls ... OK
* checking R code for possible problems ... OK
* checking Rd files ... OK
* checking Rd metadata ... OK
* checking Rd cross-references ... OK
* checking for missing documentation entries ... OK
* checking for code/documentation mismatches ... OK
* checking Rd \usage sections ... OK
* checking Rd contents ... OK
* checking for unstated dependencies in examples ... OK
* checking R/sysdata.rda ... OK
* checking line endings in C/C++/Fortran sources/headers ... OK
* checking line endings in Makefiles ... OK
* checking for portable use of $(BLAS_LIBS) and $(LAPACK_LIBS) ... OK
* checking compiled code ... OK
* checking installed files from 'inst/doc' ... OK
* checking examples ... [37s/37s] OK
Examples with CPU or elapsed time > 5s
                 user system elapsed
mlSummarization 6.760  0.245   7.040
slSummarization 5.887  0.107   6.073
fragLengCorr    5.689  0.081   5.821
* checking for unstated dependencies in vignettes ... OK
* checking package vignettes in 'inst/doc' ... OK
* checking running R code from vignettes ... SKIPPED
* checking re-building of vignettes ... SKIPPED
* checking PDF version of manual ... OK

cn.farms.Rcheck/00install.out:

* installing *source* package 'cn.farms' ...
** libs
llvm-gcc-4.2 -arch x86_64 -std=gnu99 -I/Library/Frameworks/R.framework/Resources/include -DNDEBUG  -I/usr/local/include    -fPIC  -mtune=core2 -g -O2  -c R_init_cnfarms.c -o R_init_cnfarms.o
llvm-g++-4.2 -arch x86_64 -I/Library/Frameworks/R.framework/Resources/include -DNDEBUG  -I/usr/local/include    -fPIC  -mtune=core2 -g -O2  -c laplace.cpp -o laplace.o
llvm-gcc-4.2 -arch x86_64 -std=gnu99 -I/Library/Frameworks/R.framework/Resources/include -DNDEBUG  -I/usr/local/include    -fPIC  -mtune=core2 -g -O2  -c sparse_farms.c -o sparse_farms.o
llvm-g++-4.2 -arch x86_64 -dynamiclib -Wl,-headerpad_max_install_names -undefined dynamic_lookup -single_module -multiply_defined suppress -L/usr/local/lib -o cn.farms.so R_init_cnfarms.o laplace.o sparse_farms.o -F/Library/Frameworks/R.framework/.. -framework R -Wl,-framework -Wl,CoreFoundation
installing to /Users/biocbuild/bbs-2.12-bioc/meat/cn.farms.Rcheck/cn.farms/libs
** R
** demo
** inst
** preparing package for lazy loading
'.find.package' is deprecated.
Use 'find.package' instead.
See help("Deprecated")
'.find.package' is deprecated.
Use 'find.package' instead.
See help("Deprecated")
'.find.package' is deprecated.
Use 'find.package' instead.
See help("Deprecated")
** help
*** installing help indices
** building package indices
** installing vignettes
   'cn.farms.Rnw' using 'UTF-8' 
** testing if installed package can be loaded
'.find.package' is deprecated.
Use 'find.package' instead.
See help("Deprecated")
'.find.package' is deprecated.
Use 'find.package' instead.
See help("Deprecated")
'.find.package' is deprecated.
Use 'find.package' instead.
See help("Deprecated")
* DONE (cn.farms)

cn.farms.Rcheck/cn.farms-Ex.timings:

nameusersystemelapsed
combineData2.2580.0822.384
createAnnotation0.0120.0020.014
distributionDistance0.5860.0310.621
dnaCopySf0.2530.0100.266
fragLengCorr5.6890.0815.821
mlSummarization6.7600.2457.040
normalizeAverage0.0130.0020.015
normalizeCels0.0110.0010.012
normalizeNpData0.0110.0050.016
plotDendrogram0.5540.0350.593
plotDensity0.7940.0410.927
plotEvalIc0.9560.0341.027
plotRegions0.2440.0150.265
plotSmoothScatter0.8560.0580.936
plotViolines0.2500.0150.267
slSummarization5.8870.1076.073
sparseFarmsC0.0120.0040.016
summarizeFarmsExact0.0150.0050.020
summarizeFarmsExact20.0180.0050.023
summarizeFarmsExact30.0190.0050.024
summarizeFarmsGaussian0.0200.0040.024
summarizeFarmsMethods0.0100.0030.013
summarizeFarmsVariational0.0120.0040.016
summarizeWindowBps0.0230.0050.028
summarizeWindowMethods0.0120.0030.014
summarizeWindowStd0.0170.0030.021