| Back to the "Multiple platform build/check report" | [A] B C D E F G H I J K L M N O P Q R S T U V W X Y Z | 
| Package 3/658 | Hostname | OS / Arch | BUILD | CHECK | BUILD BIN | ||||
| a4Classif 1.7.0 Tobias Verbeke 
 | george2 | Linux (Ubuntu 12.04.1 LTS) / x86_64 | OK | OK | |||||
| moscato2 | Windows Server 2008 R2 Enterprise SP1 (64-bit) / x64 | OK | OK | OK | |||||
| petty | Mac OS X Leopard (10.5.8) / i386 | [ OK ] | WARNINGS | OK | 
| Package: a4Classif | 
| Version: 1.7.0 | 
| Command: /Library/Frameworks/R.framework/Versions/Current/Resources/bin/R CMD build --keep-empty-dirs --no-resave-data a4Classif | 
| StartedAt: 2013-03-24 23:52:36 -0700 (Sun, 24 Mar 2013) | 
| EndedAt: 2013-03-24 23:52:37 -0700 (Sun, 24 Mar 2013) | 
| EllapsedTime: 0.9 seconds | 
| RetCode: 0 | 
| Status: OK | 
| PackageFile: a4Classif_1.7.0.tar.gz | 
| PackageFileSize: 5.171 KiB | 
* checking for file 'a4Classif/DESCRIPTION' ... OK * preparing 'a4Classif': * checking DESCRIPTION meta-information ... OK * checking for LF line-endings in source and make files * checking for empty or unneeded directories * building 'a4Classif_1.7.0.tar.gz'