Back to the "Multiple platform build/check report" A  B  C  D  E  F  G  H  I  J  K  L  M  N  O  P  Q [R] S  T  U  V  W  X  Y  Z 

Package 567/658HostnameOS / ArchBUILDCHECKBUILD BIN
Rtreemix 1.21.1
Jasmina Bogojeska
Snapshot Date: 2013-03-22 17:01:19 -0700 (Fri, 22 Mar 2013)
URL: https://hedgehog.fhcrc.org/bioconductor/trunk/madman/Rpacks/Rtreemix
Last Changed Rev: 72257 / Revision: 74721
Last Changed Date: 2013-01-02 23:10:19 -0800 (Wed, 02 Jan 2013)
george2 Linux (Ubuntu 12.04.1 LTS) / x86_64  OK  WARNINGS 
moscato2 Windows Server 2008 R2 Enterprise SP1 (64-bit) / x64  OK  OK  OK 
petty Mac OS X Leopard (10.5.8) / i386  OK  WARNINGS  OK 
pelham Mac OS X Snow Leopard (10.6.8) / x86_64  OK  WARNINGS [ OK ]

Summary

Package: Rtreemix
Version: 1.21.1
Command: rm -rf Rtreemix.buildbin-libdir && mkdir Rtreemix.buildbin-libdir && /Library/Frameworks/R.framework/Versions/Current/Resources/bin/R CMD INSTALL --build --no-multiarch --library=Rtreemix.buildbin-libdir Rtreemix_1.21.1.tar.gz
StartedAt: 2013-03-23 12:16:39 -0700 (Sat, 23 Mar 2013)
EndedAt: 2013-03-23 12:17:29 -0700 (Sat, 23 Mar 2013)
EllapsedTime: 49.9 seconds
RetCode: 0
Status:  OK 
PackageFile: Rtreemix_1.21.1.tgz
PackageFileSize: 1.059 MiB

Command output

* installing *source* package 'Rtreemix' ...
** libs
llvm-g++-4.2 -arch x86_64 -I/Library/Frameworks/R.framework/Resources/include -DNDEBUG  -I/usr/local/include    -fPIC  -mtune=core2 -g -O2  -c Rtreemix.cc -o Rtreemix.o
llvm-g++-4.2 -arch x86_64 -I/Library/Frameworks/R.framework/Resources/include -DNDEBUG  -I/usr/local/include    -fPIC  -mtune=core2 -g -O2  -c WrapGraph.cc -o WrapGraph.o
llvm-g++-4.2 -arch x86_64 -I/Library/Frameworks/R.framework/Resources/include -DNDEBUG  -I/usr/local/include    -fPIC  -mtune=core2 -g -O2  -c cfunctions.cc -o cfunctions.o
llvm-g++-4.2 -arch x86_64 -I/Library/Frameworks/R.framework/Resources/include -DNDEBUG  -I/usr/local/include    -fPIC  -mtune=core2 -g -O2  -c kmeans.cc -o kmeans.o
llvm-g++-4.2 -arch x86_64 -I/Library/Frameworks/R.framework/Resources/include -DNDEBUG  -I/usr/local/include    -fPIC  -mtune=core2 -g -O2  -c max_weight_branch.cc -o max_weight_branch.o
llvm-g++-4.2 -arch x86_64 -I/Library/Frameworks/R.framework/Resources/include -DNDEBUG  -I/usr/local/include    -fPIC  -mtune=core2 -g -O2  -c mtree.cc -o mtree.o
llvm-g++-4.2 -arch x86_64 -I/Library/Frameworks/R.framework/Resources/include -DNDEBUG  -I/usr/local/include    -fPIC  -mtune=core2 -g -O2  -c mtreemix.cc -o mtreemix.o
llvm-g++-4.2 -arch x86_64 -I/Library/Frameworks/R.framework/Resources/include -DNDEBUG  -I/usr/local/include    -fPIC  -mtune=core2 -g -O2  -c replaceleda.cc -o replaceleda.o
llvm-g++-4.2 -arch x86_64 -dynamiclib -Wl,-headerpad_max_install_names -undefined dynamic_lookup -single_module -multiply_defined suppress -L/usr/local/lib -o Rtreemix.so Rtreemix.o WrapGraph.o cfunctions.o kmeans.o max_weight_branch.o mtree.o mtreemix.o replaceleda.o -lm -F/Library/Frameworks/R.framework/.. -framework R -Wl,-framework -Wl,CoreFoundation
installing to /Users/biocbuild/bbs-2.12-bioc/meat/Rtreemix.buildbin-libdir/Rtreemix/libs
** R
** data
** inst
** preparing package for lazy loading
Warning: replacing previous import 'plot' when loading 'graphics'
Creating a generic function for 'print' from package 'base' in package 'Rtreemix'
** help
*** installing help indices
** building package indices
** installing vignettes
   'Rtreemix.Rnw' 
** testing if installed package can be loaded
Warning: replacing previous import 'plot' when loading 'graphics'
packaged installation of 'Rtreemix' as 'Rtreemix_1.21.1.tgz'
* DONE (Rtreemix)