Back to the "Multiple platform build/check report" A  B  C  D  E  F  G  H  I  J  K  L  M  N  O  P  Q [R] S  T  U  V  W  X  Y  Z 

Package 567/658HostnameOS / ArchBUILDCHECKBUILD BIN
Rtreemix 1.21.1
Jasmina Bogojeska
Snapshot Date: 2013-03-23 17:02:20 -0700 (Sat, 23 Mar 2013)
URL: https://hedgehog.fhcrc.org/bioconductor/trunk/madman/Rpacks/Rtreemix
Last Changed Rev: 74741 / Revision: 74756
Last Changed Date: 2013-03-23 08:16:54 -0700 (Sat, 23 Mar 2013)
george2 Linux (Ubuntu 12.04.1 LTS) / x86_64  ERROR  skipped 
moscato2 Windows Server 2008 R2 Enterprise SP1 (64-bit) / x64  ERROR  skipped  skipped 
petty Mac OS X Leopard (10.5.8) / i386  ERROR  skipped  skipped 
pelham Mac OS X Snow Leopard (10.6.8) / x86_64 [ ERROR ] skipped  skipped 

Summary

Package: Rtreemix
Version: 1.21.1
Command: /Library/Frameworks/R.framework/Versions/Current/Resources/bin/R CMD build --keep-empty-dirs --no-resave-data Rtreemix
StartedAt: 2013-03-23 21:57:38 -0700 (Sat, 23 Mar 2013)
EndedAt: 2013-03-23 21:58:01 -0700 (Sat, 23 Mar 2013)
EllapsedTime: 22.9 seconds
RetCode: 1
Status:  ERROR 
PackageFile: None
PackageFileSize: NA

Command output

* checking for file 'Rtreemix/DESCRIPTION' ... OK
* preparing 'Rtreemix':
* checking DESCRIPTION meta-information ... OK
* cleaning src
* installing the package to re-build vignettes
      -----------------------------------
* installing *source* package 'Rtreemix' ...
** libs
llvm-g++-4.2 -arch x86_64 -I/Library/Frameworks/R.framework/Resources/include -DNDEBUG  -I/usr/local/include    -fPIC  -mtune=core2 -g -O2  -c Rtreemix.cc -o Rtreemix.o
llvm-g++-4.2 -arch x86_64 -I/Library/Frameworks/R.framework/Resources/include -DNDEBUG  -I/usr/local/include    -fPIC  -mtune=core2 -g -O2  -c WrapGraph.cc -o WrapGraph.o
llvm-g++-4.2 -arch x86_64 -I/Library/Frameworks/R.framework/Resources/include -DNDEBUG  -I/usr/local/include    -fPIC  -mtune=core2 -g -O2  -c cfunctions.cc -o cfunctions.o
llvm-g++-4.2 -arch x86_64 -I/Library/Frameworks/R.framework/Resources/include -DNDEBUG  -I/usr/local/include    -fPIC  -mtune=core2 -g -O2  -c kmeans.cc -o kmeans.o
llvm-g++-4.2 -arch x86_64 -I/Library/Frameworks/R.framework/Resources/include -DNDEBUG  -I/usr/local/include    -fPIC  -mtune=core2 -g -O2  -c max_weight_branch.cc -o max_weight_branch.o
llvm-g++-4.2 -arch x86_64 -I/Library/Frameworks/R.framework/Resources/include -DNDEBUG  -I/usr/local/include    -fPIC  -mtune=core2 -g -O2  -c mtree.cc -o mtree.o
mtree.cc: In function 'replaceleda::array<std::basic_string<char, std::char_traits<char>, std::allocator<char> > > load_profile(char*, int)':
mtree.cc:37: error: 'struct replaceleda::string' has no member named 'Rf_length'
make: *** [mtree.o] Error 1
ERROR: compilation failed for package 'Rtreemix'
* removing '/private/tmp/RtmpJvSELZ/Rinst2421ff09338/Rtreemix'
      -----------------------------------
ERROR: package installation failed