| KEGGREST 0.99.5 Bioconductor Package Maintainer
 
 | Snapshot Date: 2013-03-19 17:01:12 -0700 (Tue, 19 Mar 2013) |  | URL: https://hedgehog.fhcrc.org/bioconductor/trunk/madman/Rpacks/KEGGREST |  | Last Changed Rev: 74314 / Revision: 74585 |  | Last Changed Date: 2013-03-13 16:46:16 -0700 (Wed, 13 Mar 2013) | 
 | george2 | Linux (Ubuntu 12.04.1 LTS) / x86_64 | OK | OK |  | 
| moscato2 | Windows Server 2008 R2 Enterprise SP1 (64-bit) / x64 | OK | OK | OK | 
| petty | Mac OS X Leopard (10.5.8) / i386 | OK | OK | [ OK ] | 
| pelham | Mac OS X Snow Leopard (10.6.8) / x86_64 | OK | OK | OK | 
>>>>>>> 
>>>>>>> INSTALLATION WITH 'R CMD INSTALL --preclean --no-multiarch --library=KEGGREST.buildbin-libdir KEGGREST_0.99.5.tar.gz'
>>>>>>> 
* installing *source* package 'KEGGREST' ...
** R
** inst
** preparing package for lazy loading
** help
*** installing help indices
** building package indices
** installing vignettes
   'KEGGREST-vignette.Rmd' 
processing file: KEGGREST-vignette.Rmd
output file: /Users/biocbuild/bbs-2.12-bioc/meat/KEGGREST.buildbin-libdir/KEGGREST/doc/KEGGREST-vignette.R
** testing if installed package can be loaded
* DONE (KEGGREST)