Back to the "Multiple platform build/check report" A  B  C  D  E  F  G  H  I  J [K] L  M  N  O  P  Q  R  S  T  U  V  W  X  Y  Z 

Package 354/658HostnameOS / ArchBUILDCHECKBUILD BIN
KEGGREST 0.99.6
Bioconductor Package Maintainer
Snapshot Date: 2013-03-23 17:02:20 -0700 (Sat, 23 Mar 2013)
URL: https://hedgehog.fhcrc.org/bioconductor/trunk/madman/Rpacks/KEGGREST
Last Changed Rev: 74614 / Revision: 74756
Last Changed Date: 2013-03-20 13:16:42 -0700 (Wed, 20 Mar 2013)
george2 Linux (Ubuntu 12.04.1 LTS) / x86_64  OK  OK 
moscato2 Windows Server 2008 R2 Enterprise SP1 (64-bit) / x64  OK  OK  OK 
petty Mac OS X Leopard (10.5.8) / i386  ERROR  skipped  skipped 
pelham Mac OS X Snow Leopard (10.6.8) / x86_64 [ OK ] OK  OK 

Summary

Package: KEGGREST
Version: 0.99.6
Command: /Library/Frameworks/R.framework/Versions/Current/Resources/bin/R CMD build --keep-empty-dirs --no-resave-data KEGGREST
StartedAt: 2013-03-24 01:28:29 -0700 (Sun, 24 Mar 2013)
EndedAt: 2013-03-24 01:28:31 -0700 (Sun, 24 Mar 2013)
EllapsedTime: 1.8 seconds
RetCode: 0
Status:  OK 
PackageFile: KEGGREST_0.99.6.tar.gz
PackageFileSize: 13.33 KiB

Command output

* checking for file 'KEGGREST/DESCRIPTION' ... OK
* preparing 'KEGGREST':
* checking DESCRIPTION meta-information ... OK
* checking for LF line-endings in source and make files
* checking for empty or unneeded directories
WARNING: directory 'KEGGREST/inst/doc' is empty
* building 'KEGGREST_0.99.6.tar.gz'