Back to the "Multiple platform build/check report" A  B  C [D] E  F  G  H  I  J  K  L  M  N  O  P  Q  R  S  T  U  V  W  X  Y  Z 

Package 175/658HostnameOS / ArchBUILDCHECKBUILD BIN
DEXSeq 1.5.9
Alejandro Reyes
Snapshot Date: 2013-03-23 17:02:20 -0700 (Sat, 23 Mar 2013)
URL: https://hedgehog.fhcrc.org/bioconductor/trunk/madman/Rpacks/DEXSeq
Last Changed Rev: 73888 / Revision: 74756
Last Changed Date: 2013-03-04 06:49:10 -0800 (Mon, 04 Mar 2013)
george2 Linux (Ubuntu 12.04.1 LTS) / x86_64  OK  OK 
moscato2 Windows Server 2008 R2 Enterprise SP1 (64-bit) / x64  OK  OK  OK 
petty Mac OS X Leopard (10.5.8) / i386  OK  OK  OK 
pelham Mac OS X Snow Leopard (10.6.8) / x86_64  OK [ OK ] OK 

Summary

Package: DEXSeq
Version: 1.5.9
Command: /Library/Frameworks/R.framework/Versions/Current/Resources/bin/R CMD check --no-vignettes --timings --no-multiarch DEXSeq_1.5.9.tar.gz
StartedAt: 2013-03-24 04:25:43 -0700 (Sun, 24 Mar 2013)
EndedAt: 2013-03-24 04:31:46 -0700 (Sun, 24 Mar 2013)
EllapsedTime: 363.6 seconds
RetCode: 0
Status:  OK 
CheckDir: DEXSeq.Rcheck
Warnings: 0

Command output

* using log directory '/Users/biocbuild/bbs-2.12-bioc/meat/DEXSeq.Rcheck'
* using R version 3.0.0 beta (2013-03-21 r62346)
* using platform: x86_64-apple-darwin10.8.0 (64-bit)
* using session charset: ASCII
* using option '--no-vignettes'
* checking for file 'DEXSeq/DESCRIPTION' ... OK
* this is package 'DEXSeq' version '1.5.9'
* checking package namespace information ... OK
* checking package dependencies ... OK
* checking if this is a source package ... OK
* checking if there is a namespace ... OK
* checking for hidden files and directories ... OK
* checking for portable file names ... OK
* checking for sufficient/correct file permissions ... OK
* checking whether package 'DEXSeq' can be installed ... [21s/22s] OK
* checking installed package size ... OK
* checking package directory ... OK
* checking DESCRIPTION meta-information ... OK
* checking top-level files ... OK
* checking for left-over files ... OK
* checking index information ... OK
* checking package subdirectories ... OK
* checking R files for non-ASCII characters ... OK
* checking R files for syntax errors ... OK
* checking whether the package can be loaded ... OK
* checking whether the package can be loaded with stated dependencies ... OK
* checking whether the package can be unloaded cleanly ... OK
* checking whether the namespace can be loaded with stated dependencies ... OK
* checking whether the namespace can be unloaded cleanly ... OK
* checking for unstated dependencies in R code ... OK
* checking S3 generic/method consistency ... OK
* checking replacement functions ... OK
* checking foreign function calls ... OK
* checking R code for possible problems ... OK
* checking Rd files ... OK
* checking Rd metadata ... OK
* checking Rd cross-references ... OK
* checking for missing documentation entries ... OK
* checking for code/documentation mismatches ... OK
* checking Rd \usage sections ... OK
* checking Rd contents ... OK
* checking for unstated dependencies in examples ... OK
* checking installed files from 'inst/doc' ... OK
* checking examples ... [155s/156s] OK
Examples with CPU or elapsed time > 5s
                          user system elapsed
read.HTSeqCounts        47.762  1.299  49.549
estimateDispersionsTRT  24.830  0.122  25.145
makeCompleteDEUAnalysis 23.147  0.178  23.415
estimateDispersions     15.565  0.249  16.094
testGeneForDEU          14.101  0.429  14.595
fitDispersionFunction   14.019  0.106  14.185
* checking for unstated dependencies in vignettes ... OK
* checking package vignettes in 'inst/doc' ... OK
* checking running R code from vignettes ... SKIPPED
* checking re-building of vignettes ... SKIPPED
* checking PDF version of manual ... OK

DEXSeq.Rcheck/00install.out:

* installing *source* package 'DEXSeq' ...
** R
** inst
** preparing package for lazy loading
** help
*** installing help indices
** building package indices
** installing vignettes
   'DEXSeq.Rnw' 
** testing if installed package can be loaded
* DONE (DEXSeq)

DEXSeq.Rcheck/DEXSeq-Ex.timings:

nameusersystemelapsed
DEUresultTable0.0080.0030.012
DEXSeqHTML0.0090.0030.013
ExonCountSet-class0.0050.0010.006
buildExonCountSet0.0140.0040.018
countReadsForDEXSeq0.0120.0040.016
countTableForGene0.1640.0140.184
counts0.3350.0060.342
design0.0350.0050.039
estimateDispersions15.565 0.24916.094
estimateDispersionsTRT24.830 0.12225.145
estimateExonDispersionsForModelFrame0.3720.0060.380
estimateSizeFactors0.0620.0060.068
estimatelog2FoldChanges0.0090.0030.013
exonIDs0.0300.0110.042
fitDispersionFunction14.019 0.10614.185
geneCountTable0.1490.0050.159
geneIDs0.0520.0040.055
makeCompleteDEUAnalysis23.147 0.17823.415
modelFrameForGene0.0460.0060.052
modelFrameForTRT0.0430.0050.048
newExonCountSet0.3610.0050.366
perGeneQValue0.0090.0030.011
plotDEXSeq0.0170.0050.021
prepareAnnotationForDEXSeq0.0080.0020.011
read.HTSeqCounts47.762 1.29949.549
sizeFactors0.0580.0080.066
subsetByGenes0.0720.0060.078
testForDEU0.0440.0090.056
testForDEUTRT0.0030.0060.009
testGeneForDEU14.101 0.42914.595