Back to the "Multiple platform build/check report" A  B  C [D] E  F  G  H  I  J  K  L  M  N  O  P  Q  R  S  T  U  V  W  X  Y  Z 

Package 175/658HostnameOS / ArchBUILDCHECKBUILD BIN
DEXSeq 1.5.9
Alejandro Reyes
Snapshot Date: 2013-03-24 17:01:43 -0700 (Sun, 24 Mar 2013)
URL: https://hedgehog.fhcrc.org/bioconductor/trunk/madman/Rpacks/DEXSeq
Last Changed Rev: 73888 / Revision: 74774
Last Changed Date: 2013-03-04 06:49:10 -0800 (Mon, 04 Mar 2013)
george2 Linux (Ubuntu 12.04.1 LTS) / x86_64  OK [ OK ]
moscato2 Windows Server 2008 R2 Enterprise SP1 (64-bit) / x64  OK  OK  OK 
petty Mac OS X Leopard (10.5.8) / i386  OK  OK  OK 

Summary

Package: DEXSeq
Version: 1.5.9
Command: /home/biocbuild/bbs-2.12-bioc/R/bin/R CMD check --no-vignettes --timings DEXSeq_1.5.9.tar.gz
StartedAt: 2013-03-25 01:10:44 -0700 (Mon, 25 Mar 2013)
EndedAt: 2013-03-25 01:17:58 -0700 (Mon, 25 Mar 2013)
EllapsedTime: 434.5 seconds
RetCode: 0
Status:  OK 
CheckDir: DEXSeq.Rcheck
Warnings: 0

Command output

* using log directory ‘/home/biocbuild/bbs-2.12-bioc/meat/DEXSeq.Rcheck’
* using R version 3.0.0 beta (2013-03-19 r62328)
* using platform: x86_64-unknown-linux-gnu (64-bit)
* using session charset: UTF-8
* using option ‘--no-vignettes’
* checking for file ‘DEXSeq/DESCRIPTION’ ... OK
* this is package ‘DEXSeq’ version ‘1.5.9’
* checking package namespace information ... OK
* checking package dependencies ... OK
* checking if this is a source package ... OK
* checking if there is a namespace ... OK
* checking for hidden files and directories ... OK
* checking for portable file names ... OK
* checking for sufficient/correct file permissions ... OK
* checking whether package ‘DEXSeq’ can be installed ... [26s/28s] OK
* checking installed package size ... OK
* checking package directory ... OK
* checking DESCRIPTION meta-information ... OK
* checking top-level files ... OK
* checking for left-over files ... OK
* checking index information ... OK
* checking package subdirectories ... OK
* checking R files for non-ASCII characters ... OK
* checking R files for syntax errors ... OK
* checking whether the package can be loaded ... OK
* checking whether the package can be loaded with stated dependencies ... OK
* checking whether the package can be unloaded cleanly ... OK
* checking whether the namespace can be loaded with stated dependencies ... OK
* checking whether the namespace can be unloaded cleanly ... OK
* checking for unstated dependencies in R code ... OK
* checking S3 generic/method consistency ... OK
* checking replacement functions ... OK
* checking foreign function calls ... OK
* checking R code for possible problems ... OK
* checking Rd files ... OK
* checking Rd metadata ... OK
* checking Rd cross-references ... OK
* checking for missing documentation entries ... OK
* checking for code/documentation mismatches ... OK
* checking Rd \usage sections ... OK
* checking Rd contents ... OK
* checking for unstated dependencies in examples ... OK
* checking installed files from ‘inst/doc’ ... OK
* checking examples ... [178s/187s] OK
Examples with CPU or elapsed time > 5s
                          user system elapsed
read.HTSeqCounts        59.075  0.248  60.164
makeCompleteDEUAnalysis 26.650  0.016  28.752
estimateDispersionsTRT  24.486  0.052  26.624
estimateDispersions     17.933  0.168  18.544
testGeneForDEU          16.974  0.048  17.085
fitDispersionFunction   15.381  0.036  18.874
* checking for unstated dependencies in vignettes ... OK
* checking package vignettes in ‘inst/doc’ ... OK
* checking running R code from vignettes ... SKIPPED
* checking re-building of vignettes ... SKIPPED
* checking PDF version of manual ... OK

DEXSeq.Rcheck/00install.out:

* installing *source* package ‘DEXSeq’ ...
** R
** inst
** preparing package for lazy loading
** help
*** installing help indices
** building package indices
** installing vignettes
   ‘DEXSeq.Rnw’ 
** testing if installed package can be loaded
* DONE (DEXSeq)

DEXSeq.Rcheck/DEXSeq-Ex.timings:

nameusersystemelapsed
DEUresultTable0.0120.0160.028
DEXSeqHTML0.0120.0040.018
ExonCountSet-class0.0040.0080.012
buildExonCountSet0.0160.0080.023
countReadsForDEXSeq0.0120.0080.018
countTableForGene0.1720.0200.193
counts0.6160.0080.714
design0.0400.0000.041
estimateDispersions17.933 0.16818.544
estimateDispersionsTRT24.486 0.05226.624
estimateExonDispersionsForModelFrame0.3400.0000.341
estimateSizeFactors0.0600.0000.058
estimatelog2FoldChanges0.0120.0040.016
exonIDs0.0440.0040.049
fitDispersionFunction15.381 0.03618.874
geneCountTable0.2760.0000.278
geneIDs0.1840.0040.234
makeCompleteDEUAnalysis26.650 0.01628.752
modelFrameForGene0.0480.0080.057
modelFrameForTRT0.0560.0120.070
newExonCountSet0.4960.0000.496
perGeneQValue0.0040.0000.006
plotDEXSeq0.0320.0000.032
prepareAnnotationForDEXSeq0.0240.0000.023
read.HTSeqCounts59.075 0.24860.164
sizeFactors0.0640.0000.065
subsetByGenes0.0880.0000.091
testForDEU0.0080.0000.009
testForDEUTRT0.0720.0000.074
testGeneForDEU16.974 0.04817.085