DESeq2 0.99.21 Michael Love
Snapshot Date: 2013-03-23 17:02:20 -0700 (Sat, 23 Mar 2013) | URL: https://hedgehog.fhcrc.org/bioconductor/trunk/madman/Rpacks/DESeq2 | Last Changed Rev: 74724 / Revision: 74756 | Last Changed Date: 2013-03-22 17:29:44 -0700 (Fri, 22 Mar 2013) |
| george2 | Linux (Ubuntu 12.04.1 LTS) / x86_64 | OK | OK | |
moscato2 | Windows Server 2008 R2 Enterprise SP1 (64-bit) / x64 | OK | OK | OK |
petty | Mac OS X Leopard (10.5.8) / i386 | OK | OK | OK |
pelham | Mac OS X Snow Leopard (10.6.8) / x86_64 | [ OK ] | OK | OK |
* checking for file 'DESeq2/DESCRIPTION' ... OK
* preparing 'DESeq2':
* checking DESCRIPTION meta-information ... OK
* cleaning src
* installing the package to re-build vignettes
* creating vignettes ... OK
* cleaning src
* checking for LF line-endings in source and make files
* checking for empty or unneeded directories
* building 'DESeq2_0.99.21.tar.gz'