DESeq2 0.99.21 Michael Love
Snapshot Date: 2013-03-23 17:02:20 -0700 (Sat, 23 Mar 2013) | URL: https://hedgehog.fhcrc.org/bioconductor/trunk/madman/Rpacks/DESeq2 | Last Changed Rev: 74724 / Revision: 74756 | Last Changed Date: 2013-03-22 17:29:44 -0700 (Fri, 22 Mar 2013) |
| george2 | Linux (Ubuntu 12.04.1 LTS) / x86_64 | OK | OK | |
moscato2 | Windows Server 2008 R2 Enterprise SP1 (64-bit) / x64 | OK | OK | OK |
petty | Mac OS X Leopard (10.5.8) / i386 | OK | OK | OK |
pelham | Mac OS X Snow Leopard (10.6.8) / x86_64 | OK | OK | [ OK ] |
* installing *source* package 'DESeq2' ...
** libs
llvm-g++-4.2 -arch x86_64 -I/Library/Frameworks/R.framework/Resources/include -DNDEBUG -I/usr/local/include -I"/Library/Frameworks/R.framework/Versions/3.0/Resources/library/Rcpp/include" -I"/Library/Frameworks/R.framework/Versions/3.0/Resources/library/RcppArmadillo/include" -fPIC -mtune=core2 -g -O2 -c DESeq2.cpp -o DESeq2.o
llvm-g++-4.2 -arch x86_64 -dynamiclib -Wl,-headerpad_max_install_names -undefined dynamic_lookup -single_module -multiply_defined suppress -L/usr/local/lib -o DESeq2.so DESeq2.o /Library/Frameworks/R.framework/Versions/3.0/Resources/library/Rcpp/lib/libRcpp.a -L/Library/Frameworks/R.framework/Resources/lib -lRlapack -L/Library/Frameworks/R.framework/Resources/lib -lRblas -L/usr/local/lib/gcc/i686-apple-darwin8/4.2.3/x86_64 -L/usr/local/lib/x86_64 -L/usr/local/lib/gcc/i686-apple-darwin8/4.2.3 -lgfortran -F/Library/Frameworks/R.framework/.. -framework R -Wl,-framework -Wl,CoreFoundation
installing to /Users/biocbuild/bbs-2.12-bioc/meat/DESeq2.buildbin-libdir/DESeq2/libs
** R
** inst
** preparing package for lazy loading
** help
*** installing help indices
** building package indices
** installing vignettes
'DESeq2.Rnw'
** testing if installed package can be loaded
packaged installation of 'DESeq2' as 'DESeq2_0.99.21.tgz'
* DONE (DESeq2)