ChemmineR 2.11.19 ChemmineR Team
Snapshot Date: 2013-03-23 17:02:20 -0700 (Sat, 23 Mar 2013) | URL: https://hedgehog.fhcrc.org/bioconductor/trunk/madman/Rpacks/ChemmineR | Last Changed Rev: 74176 / Revision: 74756 | Last Changed Date: 2013-03-11 13:48:45 -0700 (Mon, 11 Mar 2013) |
| george2 | Linux (Ubuntu 12.04.1 LTS) / x86_64 | OK | OK | |
moscato2 | Windows Server 2008 R2 Enterprise SP1 (64-bit) / x64 | OK | OK | OK |
petty | Mac OS X Leopard (10.5.8) / i386 | OK | OK | OK |
pelham | Mac OS X Snow Leopard (10.6.8) / x86_64 | OK | OK | [ OK ] |
* installing *source* package 'ChemmineR' ...
** libs
llvm-g++-4.2 -arch x86_64 -I/Library/Frameworks/R.framework/Resources/include -DNDEBUG -I/usr/local/include -DNO_MAIN -fPIC -mtune=core2 -g -O2 -c DisjointSets.cpp -o DisjointSets.o
llvm-g++-4.2 -arch x86_64 -I/Library/Frameworks/R.framework/Resources/include -DNDEBUG -I/usr/local/include -DNO_MAIN -fPIC -mtune=core2 -g -O2 -c cluster.cc -o cluster.o
llvm-g++-4.2 -arch x86_64 -I/Library/Frameworks/R.framework/Resources/include -DNDEBUG -I/usr/local/include -DNO_MAIN -fPIC -mtune=core2 -g -O2 -c desc.cc -o desc.o
llvm-g++-4.2 -arch x86_64 -I/Library/Frameworks/R.framework/Resources/include -DNDEBUG -I/usr/local/include -DNO_MAIN -fPIC -mtune=core2 -g -O2 -c formats.cc -o formats.o
llvm-g++-4.2 -arch x86_64 -I/Library/Frameworks/R.framework/Resources/include -DNDEBUG -I/usr/local/include -DNO_MAIN -fPIC -mtune=core2 -g -O2 -c molecule.cc -o molecule.o
llvm-g++-4.2 -arch x86_64 -I/Library/Frameworks/R.framework/Resources/include -DNDEBUG -I/usr/local/include -DNO_MAIN -fPIC -mtune=core2 -g -O2 -c r_wrap.cc -o r_wrap.o
llvm-g++-4.2 -arch x86_64 -I/Library/Frameworks/R.framework/Resources/include -DNDEBUG -I/usr/local/include -DNO_MAIN -fPIC -mtune=core2 -g -O2 -c script.cc -o script.o
llvm-g++-4.2 -arch x86_64 -I/Library/Frameworks/R.framework/Resources/include -DNDEBUG -I/usr/local/include -DNO_MAIN -fPIC -mtune=core2 -g -O2 -c similarity.cc -o similarity.o
llvm-g++-4.2 -arch x86_64 -dynamiclib -Wl,-headerpad_max_install_names -undefined dynamic_lookup -single_module -multiply_defined suppress -L/usr/local/lib -o ChemmineR.so DisjointSets.o cluster.o desc.o formats.o molecule.o r_wrap.o script.o similarity.o -F/Library/Frameworks/R.framework/.. -framework R -Wl,-framework -Wl,CoreFoundation
installing to /Users/biocbuild/bbs-2.12-bioc/meat/ChemmineR.buildbin-libdir/ChemmineR/libs
** R
** data
** inst
** preparing package for lazy loading
Creating a generic function for 'as.vector' from package 'base' in package 'ChemmineR'
Creating a generic function for 'as.matrix' from package 'base' in package 'ChemmineR'
Creating a generic function for 'plot' from package 'graphics' in package 'ChemmineR'
Creating a generic function for 'print' from package 'base' in package 'ChemmineR'
** help
*** installing help indices
** building package indices
** installing vignettes
'ChemmineR.Rnw'
** testing if installed package can be loaded
packaged installation of 'ChemmineR' as 'ChemmineR_2.11.19.tgz'
* DONE (ChemmineR)