ChemmineR 2.11.19 ChemmineR Team
Snapshot Date: 2013-03-24 17:01:43 -0700 (Sun, 24 Mar 2013) | URL: https://hedgehog.fhcrc.org/bioconductor/trunk/madman/Rpacks/ChemmineR | Last Changed Rev: 74176 / Revision: 74774 | Last Changed Date: 2013-03-11 13:48:45 -0700 (Mon, 11 Mar 2013) |
| george2 | Linux (Ubuntu 12.04.1 LTS) / x86_64 | OK | OK | |
moscato2 | Windows Server 2008 R2 Enterprise SP1 (64-bit) / x64 | OK | OK | OK |
petty | Mac OS X Leopard (10.5.8) / i386 | OK | OK | [ OK ] |
>>>>>>>
>>>>>>> INSTALLATION WITH 'R CMD INSTALL --preclean --no-multiarch --library=ChemmineR.buildbin-libdir ChemmineR_2.11.19.tar.gz'
>>>>>>>
* installing *source* package 'ChemmineR' ...
** libs
*** arch - i386
g++ -arch i386 -I/Library/Frameworks/R.framework/Resources/include -I/Library/Frameworks/R.framework/Resources/include/i386 -DNDEBUG -I/usr/local/include -DNO_MAIN -fPIC -g -O2 -Wall -fasm-blocks -c DisjointSets.cpp -o DisjointSets.o
g++ -arch i386 -I/Library/Frameworks/R.framework/Resources/include -I/Library/Frameworks/R.framework/Resources/include/i386 -DNDEBUG -I/usr/local/include -DNO_MAIN -fPIC -g -O2 -Wall -fasm-blocks -c cluster.cc -o cluster.o
cluster.cc: In function 'int nbr_intersect(std::vector<int, std::allocator<int> >&, std::vector<int, std::allocator<int> >&)':
cluster.cc:118: warning: comparison between signed and unsigned integer expressions
cluster.cc:118: warning: comparison between signed and unsigned integer expressions
cluster.cc: In function 'int contains(int, std::vector<int, std::allocator<int> >&)':
cluster.cc:131: warning: comparison between signed and unsigned integer expressions
cluster.cc: In function 'DisjointSets cluster(int, int, int, int)':
cluster.cc:267: warning: comparison between signed and unsigned integer expressions
cluster.cc: In function 'void loadNNMatrix(int, int, int, SEXPREC*)':
cluster.cc:284: warning: comparison between signed and unsigned integer expressions
cluster.cc:298: warning: comparison between signed and unsigned integer expressions
cluster.cc: In function 'void loadNNList(int, int, SEXPREC*)':
cluster.cc:314: warning: comparison between signed and unsigned integer expressions
cluster.cc:332: warning: comparison between signed and unsigned integer expressions
cluster.cc: In function 'SEXPREC* jarvis_patrick(SEXPREC*, SEXPREC*, SEXPREC*, SEXPREC*, SEXPREC*)':
cluster.cc:390: warning: comparison between signed and unsigned integer expressions
cluster.cc: At global scope:
cluster.cc:49: warning: 'void prepare_neighbors(const char*, int, int)' defined but not used
g++ -arch i386 -I/Library/Frameworks/R.framework/Resources/include -I/Library/Frameworks/R.framework/Resources/include/i386 -DNDEBUG -I/usr/local/include -DNO_MAIN -fPIC -g -O2 -Wall -fasm-blocks -c desc.cc -o desc.o
g++ -arch i386 -I/Library/Frameworks/R.framework/Resources/include -I/Library/Frameworks/R.framework/Resources/include/i386 -DNDEBUG -I/usr/local/include -DNO_MAIN -fPIC -g -O2 -Wall -fasm-blocks -c formats.cc -o formats.o
g++ -arch i386 -I/Library/Frameworks/R.framework/Resources/include -I/Library/Frameworks/R.framework/Resources/include/i386 -DNDEBUG -I/usr/local/include -DNO_MAIN -fPIC -g -O2 -Wall -fasm-blocks -c molecule.cc -o molecule.o
g++ -arch i386 -I/Library/Frameworks/R.framework/Resources/include -I/Library/Frameworks/R.framework/Resources/include/i386 -DNDEBUG -I/usr/local/include -DNO_MAIN -fPIC -g -O2 -Wall -fasm-blocks -c r_wrap.cc -o r_wrap.o
g++ -arch i386 -I/Library/Frameworks/R.framework/Resources/include -I/Library/Frameworks/R.framework/Resources/include/i386 -DNDEBUG -I/usr/local/include -DNO_MAIN -fPIC -g -O2 -Wall -fasm-blocks -c script.cc -o script.o
g++ -arch i386 -I/Library/Frameworks/R.framework/Resources/include -I/Library/Frameworks/R.framework/Resources/include/i386 -DNDEBUG -I/usr/local/include -DNO_MAIN -fPIC -g -O2 -Wall -fasm-blocks -c similarity.cc -o similarity.o
g++ -arch i386 -dynamiclib -Wl,-headerpad_max_install_names -undefined dynamic_lookup -single_module -multiply_defined suppress -L/usr/local/lib -o ChemmineR.so DisjointSets.o cluster.o desc.o formats.o molecule.o r_wrap.o script.o similarity.o -F/Library/Frameworks/R.framework/.. -framework R -Wl,-framework -Wl,CoreFoundation
installing to /Users/biocbuild/bbs-2.12-bioc/meat/ChemmineR.buildbin-libdir/ChemmineR/libs/i386
** R
** data
** inst
** preparing package for lazy loading
Creating a generic function for 'as.vector' from package 'base' in package 'ChemmineR'
Creating a generic function for 'as.matrix' from package 'base' in package 'ChemmineR'
Creating a generic function for 'plot' from package 'graphics' in package 'ChemmineR'
Creating a generic function for 'print' from package 'base' in package 'ChemmineR'
** help
*** installing help indices
** building package indices
** installing vignettes
'ChemmineR.Rnw'
** testing if installed package can be loaded
* DONE (ChemmineR)
>>>>>>>
>>>>>>> FIXING LINKS FOR ChemmineR.buildbin-libdir/ChemmineR/libs/i386/ChemmineR.so
>>>>>>>
install_name_tool -change "/usr/local/lib/libgcc_s.1.dylib" "/Library/Frameworks/R.framework/Versions/3.0/Resources/lib/libgcc_s.1.dylib" "ChemmineR.buildbin-libdir/ChemmineR/libs/i386/ChemmineR.so"
install_name_tool -change "/usr/local/lib/libgfortran.2.dylib" "/Library/Frameworks/R.framework/Versions/3.0/Resources/lib/libgfortran.2.dylib" "ChemmineR.buildbin-libdir/ChemmineR/libs/i386/ChemmineR.so"
install_name_tool -change "/usr/local/lib/libreadline.5.2.dylib" "/Library/Frameworks/R.framework/Versions/3.0/Resources/lib/libreadline.5.2.dylib" "ChemmineR.buildbin-libdir/ChemmineR/libs/i386/ChemmineR.so"
install_name_tool -change "/usr/local/lib/libreadline.dylib" "/Library/Frameworks/R.framework/Versions/3.0/Resources/lib/libreadline.dylib" "ChemmineR.buildbin-libdir/ChemmineR/libs/i386/ChemmineR.so"
>>>>>>>
>>>>>>> INSTALLATION OF x86_64 LIBS WITH 'R_ARCH=/x86_64 R CMD INSTALL --preclean --no-multiarch --no-test-load --library=ChemmineR.buildbin-libdir --libs-only ChemmineR_2.11.19.tar.gz'
>>>>>>>
* installing *source* package 'ChemmineR' ...
** libs
*** arch - x86_64
g++ -arch x86_64 -I/Library/Frameworks/R.framework/Resources/include -I/Library/Frameworks/R.framework/Resources/include/x86_64 -DNDEBUG -I/usr/local/include -DNO_MAIN -fPIC -g -O2 -Wall -fasm-blocks -c DisjointSets.cpp -o DisjointSets.o
g++ -arch x86_64 -I/Library/Frameworks/R.framework/Resources/include -I/Library/Frameworks/R.framework/Resources/include/x86_64 -DNDEBUG -I/usr/local/include -DNO_MAIN -fPIC -g -O2 -Wall -fasm-blocks -c cluster.cc -o cluster.o
cluster.cc: In function 'int nbr_intersect(std::vector<int, std::allocator<int> >&, std::vector<int, std::allocator<int> >&)':
cluster.cc:118: warning: comparison between signed and unsigned integer expressions
cluster.cc:118: warning: comparison between signed and unsigned integer expressions
cluster.cc: In function 'int contains(int, std::vector<int, std::allocator<int> >&)':
cluster.cc:131: warning: comparison between signed and unsigned integer expressions
cluster.cc: In function 'DisjointSets cluster(int, int, int, int)':
cluster.cc:267: warning: comparison between signed and unsigned integer expressions
cluster.cc: In function 'void loadNNMatrix(int, int, int, SEXPREC*)':
cluster.cc:284: warning: comparison between signed and unsigned integer expressions
cluster.cc:298: warning: comparison between signed and unsigned integer expressions
cluster.cc: In function 'void loadNNList(int, int, SEXPREC*)':
cluster.cc:314: warning: comparison between signed and unsigned integer expressions
cluster.cc:332: warning: comparison between signed and unsigned integer expressions
cluster.cc: In function 'SEXPREC* jarvis_patrick(SEXPREC*, SEXPREC*, SEXPREC*, SEXPREC*, SEXPREC*)':
cluster.cc:390: warning: comparison between signed and unsigned integer expressions
cluster.cc: At global scope:
cluster.cc:49: warning: 'void prepare_neighbors(const char*, int, int)' defined but not used
g++ -arch x86_64 -I/Library/Frameworks/R.framework/Resources/include -I/Library/Frameworks/R.framework/Resources/include/x86_64 -DNDEBUG -I/usr/local/include -DNO_MAIN -fPIC -g -O2 -Wall -fasm-blocks -c desc.cc -o desc.o
g++ -arch x86_64 -I/Library/Frameworks/R.framework/Resources/include -I/Library/Frameworks/R.framework/Resources/include/x86_64 -DNDEBUG -I/usr/local/include -DNO_MAIN -fPIC -g -O2 -Wall -fasm-blocks -c formats.cc -o formats.o
g++ -arch x86_64 -I/Library/Frameworks/R.framework/Resources/include -I/Library/Frameworks/R.framework/Resources/include/x86_64 -DNDEBUG -I/usr/local/include -DNO_MAIN -fPIC -g -O2 -Wall -fasm-blocks -c molecule.cc -o molecule.o
g++ -arch x86_64 -I/Library/Frameworks/R.framework/Resources/include -I/Library/Frameworks/R.framework/Resources/include/x86_64 -DNDEBUG -I/usr/local/include -DNO_MAIN -fPIC -g -O2 -Wall -fasm-blocks -c r_wrap.cc -o r_wrap.o
g++ -arch x86_64 -I/Library/Frameworks/R.framework/Resources/include -I/Library/Frameworks/R.framework/Resources/include/x86_64 -DNDEBUG -I/usr/local/include -DNO_MAIN -fPIC -g -O2 -Wall -fasm-blocks -c script.cc -o script.o
g++ -arch x86_64 -I/Library/Frameworks/R.framework/Resources/include -I/Library/Frameworks/R.framework/Resources/include/x86_64 -DNDEBUG -I/usr/local/include -DNO_MAIN -fPIC -g -O2 -Wall -fasm-blocks -c similarity.cc -o similarity.o
g++ -arch x86_64 -dynamiclib -Wl,-headerpad_max_install_names -undefined dynamic_lookup -single_module -multiply_defined suppress -L/usr/local/lib -o ChemmineR.so DisjointSets.o cluster.o desc.o formats.o molecule.o r_wrap.o script.o similarity.o -F/Library/Frameworks/R.framework/.. -framework R -Wl,-framework -Wl,CoreFoundation
installing to /Users/biocbuild/bbs-2.12-bioc/meat/ChemmineR.buildbin-libdir/ChemmineR/libs/x86_64
* DONE (ChemmineR)
>>>>>>>
>>>>>>> FIXING LINKS FOR ChemmineR.buildbin-libdir/ChemmineR/libs/x86_64/ChemmineR.so
>>>>>>>
install_name_tool -change "/usr/local/lib/libgcc_s.1.dylib" "/Library/Frameworks/R.framework/Versions/3.0/Resources/lib/libgcc_s.1.dylib" "ChemmineR.buildbin-libdir/ChemmineR/libs/x86_64/ChemmineR.so"
install_name_tool -change "/usr/local/lib/libgfortran.2.dylib" "/Library/Frameworks/R.framework/Versions/3.0/Resources/lib/libgfortran.2.dylib" "ChemmineR.buildbin-libdir/ChemmineR/libs/x86_64/ChemmineR.so"
install_name_tool -change "/usr/local/lib/libreadline.5.2.dylib" "/Library/Frameworks/R.framework/Versions/3.0/Resources/lib/libreadline.5.2.dylib" "ChemmineR.buildbin-libdir/ChemmineR/libs/x86_64/ChemmineR.so"
install_name_tool -change "/usr/local/lib/libreadline.dylib" "/Library/Frameworks/R.framework/Versions/3.0/Resources/lib/libreadline.dylib" "ChemmineR.buildbin-libdir/ChemmineR/libs/x86_64/ChemmineR.so"