| Back to the "Multiple platform build/check report" | A [B] C D E F G H I J K L M N O P Q R S T U V W X Y Z | 
| Package 72/658 | Hostname | OS / Arch | BUILD | CHECK | BUILD BIN | ||||
| BiocInstaller 1.9.8 Bioconductor Package Maintainer 
 | george2 | Linux (Ubuntu 12.04.1 LTS) / x86_64 | OK | OK | |||||
| moscato2 | Windows Server 2008 R2 Enterprise SP1 (64-bit) / x64 | OK | OK | OK | |||||
| petty | Mac OS X Leopard (10.5.8) / i386 | [ OK ] | OK | OK | 
| Package: BiocInstaller | 
| Version: 1.9.8 | 
| Command: /Library/Frameworks/R.framework/Versions/Current/Resources/bin/R CMD build --keep-empty-dirs --no-resave-data BiocInstaller | 
| StartedAt: 2013-03-24 23:52:56 -0700 (Sun, 24 Mar 2013) | 
| EndedAt: 2013-03-24 23:52:58 -0700 (Sun, 24 Mar 2013) | 
| EllapsedTime: 1.9 seconds | 
| RetCode: 0 | 
| Status: OK | 
| PackageFile: BiocInstaller_1.9.8.tar.gz | 
| PackageFileSize: 11.23 KiB | 
* checking for file 'BiocInstaller/DESCRIPTION' ... OK * preparing 'BiocInstaller': * checking DESCRIPTION meta-information ... OK * checking for LF line-endings in source and make files * checking for empty or unneeded directories * building 'BiocInstaller_1.9.8.tar.gz'