| BiocInstaller 1.9.8 Bioconductor Package Maintainer
 
 | Snapshot Date: 2013-03-24 17:01:43 -0700 (Sun, 24 Mar 2013) |  | URL: https://hedgehog.fhcrc.org/bioconductor/trunk/madman/Rpacks/BiocInstaller |  | Last Changed Rev: 74316 / Revision: 74774 |  | Last Changed Date: 2013-03-13 17:47:23 -0700 (Wed, 13 Mar 2013) | 
 | george2 | Linux (Ubuntu 12.04.1 LTS) / x86_64 | OK | OK |  | 
| moscato2 | Windows Server 2008 R2 Enterprise SP1 (64-bit) / x64 | OK | OK | OK | 
| petty | Mac OS X Leopard (10.5.8) / i386 | OK | OK | [ OK ] | 
>>>>>>> 
>>>>>>> INSTALLATION WITH 'R CMD INSTALL --preclean --no-multiarch --library=BiocInstaller.buildbin-libdir BiocInstaller_1.9.8.tar.gz'
>>>>>>> 
* installing *source* package 'BiocInstaller' ...
** R
** inst
** preparing package for lazy loading
** help
*** installing help indices
** building package indices
** testing if installed package can be loaded
Bioconductor version 2.12 (BiocInstaller 1.9.8), ?biocLite for help
* DONE (BiocInstaller)