GWASdata 1.0.7 Stephanie Gogarten
 | Snapshot Date: 2013-03-24 09:15:27 -0700 (Sun, 24 Mar 2013) |  | URL: https://hedgehog.fhcrc.org/bioc-data/trunk/experiment/pkgs/GWASdata |  | Last Changed Rev: 2184 / Revision: 2286 |  | Last Changed Date: 2012-12-06 10:30:19 -0800 (Thu, 06 Dec 2012) |  
  | lamb1  | Linux (openSUSE 12.1) / x86_64  | [ OK ] |  WARNINGS  |  | 
| moscato1  | Windows Server 2008 R2 Enterprise SP1 (64-bit) / x64  |  OK  |  WARNINGS  |  OK  | 
| perceval  | Mac OS X Leopard (10.5.8) / i386  |  OK  |  WARNINGS  |  OK  | 
* checking for file ‘GWASdata/DESCRIPTION’ ... OK
* preparing ‘GWASdata’:
* checking DESCRIPTION meta-information ... OK
* checking for LF line-endings in source and make files
* checking for empty or unneeded directories
* looking to see if a ‘data/datalist’ file should be added
* building ‘GWASdata_1.0.7.tar.gz’