annaffy 1.29.0 Colin A. Smith
 | Snapshot Date: 2012-06-20 15:22:40 -0700 (Wed, 20 Jun 2012) |  | URL: https://hedgehog.fhcrc.org/bioconductor/trunk/madman/Rpacks/annaffy |  | Last Changed Rev: 64680 / Revision: 66885 |  | Last Changed Date: 2012-03-30 15:15:56 -0700 (Fri, 30 Mar 2012) |  
  | lamb1  | Linux (openSUSE 12.1) / x86_64  |  OK  |  OK  |  | 
| moscato1  | Windows Server 2008 R2 Enterprise SP1 (64-bit) / x64  |  OK  |  OK  |  OK  | 
| pitt  | Mac OS X Leopard (10.5.8) / i386  |  OK  |  OK  | [ OK ] | 
| perceval  | Mac OS X Leopard (10.5.8) / i386  |  OK  |  OK  |  OK  | 
>>>>>>> 
>>>>>>> INSTALLATION WITH 'R CMD INSTALL --preclean --no-multiarch --library=annaffy.buildbin-libdir annaffy_1.29.0.tar.gz'
>>>>>>> 
* installing *source* package 'annaffy' ...
** R
** data
** inst
** preparing package for lazy loading
Creating a generic function for 'colnames<-' from package 'base' in package 'annaffy'
** help
*** installing help indices
** building package indices
** installing vignettes
   'annaffy.Rnw' 
** testing if installed package can be loaded
* DONE (annaffy)