RMassBank 1.0.0 Michael Stravs, Emma Schymanski
 | Snapshot Date: 2013-03-23 16:21:15 -0700 (Sat, 23 Mar 2013) |  | URL: https://hedgehog.fhcrc.org/bioconductor/branches/RELEASE_2_11/madman/Rpacks/RMassBank |  | Last Changed Rev: 70050 / Revision: 74756 |  | Last Changed Date: 2012-10-01 15:16:24 -0700 (Mon, 01 Oct 2012) |  
  | lamb1  | Linux (openSUSE 12.1) / x86_64  |  OK  |  ERROR  |  | 
| moscato1  | Windows Server 2008 R2 Enterprise SP1 (64-bit) / x64  |  OK  |  OK  |  OK  | 
| perceval  | Mac OS X Leopard (10.5.8) / i386  |  OK  |  OK  | [ OK ] | 
* installing to library '/Library/Frameworks/R.framework/Versions/2.15/Resources/library'
* installing *source* package 'RMassBank' ...
** R
** inst
** preparing package for lazy loading
** help
*** installing help indices
** building package indices
** installing vignettes
   'RMassBank.Rnw' 
packaged installation of 'RMassBank' as 'RMassBank_1.0.0.tgz'
* DONE (RMassBank)