Back to the "Multiple platform build/check report"

Package 18/126HostnameOS / ArchBUILDCHECKBUILD BIN
bsseqData 0.1.1
Kasper Daniel Hansen
Snapshot Date: 2012-08-01 10:15:23 -0700 (Wed, 01 Aug 2012)
URL: https://hedgehog.fhcrc.org/bioc-data/trunk/experiment/pkgs/bsseqData
Last Changed Rev: 2103 / Revision: 2112
Last Changed Date: 2012-07-20 10:34:40 -0700 (Fri, 20 Jul 2012)
lamb2 Linux (openSUSE 11.4) / x86_64  OK  ERROR 
moscato2 Windows Server 2008 R2 Enterprise SP1 (64-bit) / x64  OK  ERROR  ERROR 
petty Mac OS X Leopard (10.5.8) / i386  OK  ERROR [ ERROR ]

Summary

Package: bsseqData
Version: 0.1.1
Command: rm -rf bsseqData.buildbin-libdir && mkdir bsseqData.buildbin-libdir && /Users/biocbuild/BBS/utils/build-universal.sh bsseqData_0.1.1.tar.gz /Library/Frameworks/R.framework/Versions/2.15/Resources/bin/R bsseqData.buildbin-libdir
StartedAt: 2012-08-01 13:07:01 -0700 (Wed, 01 Aug 2012)
EndedAt: 2012-08-01 13:07:27 -0700 (Wed, 01 Aug 2012)
EllapsedTime: 26.0 seconds
RetCode: 1
Status:  ERROR 
PackageFile: None
PackageFileSize: NA

Command output

>>>>>>> 
>>>>>>> INSTALLATION WITH 'R CMD INSTALL --preclean --no-multiarch --library=bsseqData.buildbin-libdir bsseqData_0.1.1.tar.gz'
>>>>>>> 

ERROR: dependency 'bsseq' is not available for package 'bsseqData'
* removing '/Users/biocbuild/bbs-2.10-data-experiment/meat/bsseqData.buildbin-libdir/bsseqData'