Back to the "Multiple platform build/check report" |
Package 103/126 | Hostname | OS / Arch | BUILD | CHECK | BUILD BIN | ||||
PWMEnrich.Dmelanogaster.background 1.0.0 Robert Stojnic
| lamb2 | Linux (openSUSE 11.4) / x86_64 | OK | ERROR | |||||
moscato2 | Windows Server 2008 R2 Enterprise SP1 (64-bit) / x64 | OK | [ ERROR ] | ERROR | |||||
petty | Mac OS X Leopard (10.5.8) / i386 | OK | ERROR | ERROR |
Package: PWMEnrich.Dmelanogaster.background |
Version: 1.0.0 |
Command: rm -rf PWMEnrich.Dmelanogaster.background.buildbin-libdir && mkdir PWMEnrich.Dmelanogaster.background.buildbin-libdir && E:\biocbld\bbs-2.10-bioc\R\bin\R.exe CMD INSTALL --build --merge-multiarch --library=PWMEnrich.Dmelanogaster.background.buildbin-libdir PWMEnrich.Dmelanogaster.background_1.0.0.tar.gz >PWMEnrich.Dmelanogaster.background-install.out 2>&1 && E:\biocbld\bbs-2.10-bioc\R\bin\R.exe CMD check --library=PWMEnrich.Dmelanogaster.background.buildbin-libdir --install="check:PWMEnrich.Dmelanogaster.background-install.out" --force-multiarch --no-vignettes --timings PWMEnrich.Dmelanogaster.background_1.0.0.tar.gz && mv PWMEnrich.Dmelanogaster.background.buildbin-libdir/* PWMEnrich.Dmelanogaster.background.Rcheck/ && rmdir PWMEnrich.Dmelanogaster.background.buildbin-libdir |
StartedAt: 2012-08-01 13:32:50 -0700 (Wed, 01 Aug 2012) |
EndedAt: 2012-08-01 13:32:55 -0700 (Wed, 01 Aug 2012) |
EllapsedTime: 5.0 seconds |
RetCode: 1 |
Status: ERROR |
CheckDir: None |
Warnings: NA |