Back to the "Multiple platform build/check report" |
Package 32/116 | Hostname | OS / Arch | BUILD | CHECK | BUILD BIN | ||||
ENCODEFig4Band4D 1.0.2 Wolfgang Huber
| lamb2 | Linux (openSUSE 11.4) / x86_64 | OK | WARNINGS | |||||
moscato2 | Windows Server 2008 R2 Enterprise SP1 (64-bit) / x64 | [ OK ] | WARNINGS | OK | |||||
petty | Mac OS X Snow Leopard (10.6.7) / i386 | OK | WARNINGS | OK |
Package: ENCODEFig4Band4D |
Version: 1.0.2 |
Command: chmod a+r ENCODEFig4Band4D -R && E:\biocbld\bbs-2.10-bioc\R\bin\R.exe CMD build --keep-empty-dirs --no-resave-data ENCODEFig4Band4D |
StartedAt: 2012-01-09 12:07:54 -0800 (Mon, 09 Jan 2012) |
EndedAt: 2012-01-09 12:08:54 -0800 (Mon, 09 Jan 2012) |
EllapsedTime: 60.5 seconds |
RetCode: 0 |
Status: OK |
PackageFile: ENCODEFig4Band4D_1.0.2.tar.gz |
PackageFileSize: 5.898 MiB |
* checking for file 'ENCODEFig4Band4D/DESCRIPTION' ... OK * preparing 'ENCODEFig4Band4D': * checking DESCRIPTION meta-information ... OK * installing the package to re-build vignettes * creating vignettes ... OK * checking for LF line-endings in source and make files * checking for empty or unneeded directories * looking to see if a 'data/datalist' file should be added * building 'ENCODEFig4Band4D_1.0.2.tar.gz'